BEGIN:VCALENDAR
VERSION:2.0
PRODID:-//Innovate Cambridge - ECPv6.15.11//NONSGML v1.0//EN
CALSCALE:GREGORIAN
METHOD:PUBLISH
X-WR-CALNAME:Innovate Cambridge
X-ORIGINAL-URL:https://innovatecambridge.com
X-WR-CALDESC:Events for Innovate Cambridge
REFRESH-INTERVAL;VALUE=DURATION:PT1H
X-Robots-Tag:noindex
X-PUBLISHED-TTL:PT1H
BEGIN:VTIMEZONE
TZID:Europe/London
BEGIN:DAYLIGHT
TZOFFSETFROM:+0000
TZOFFSETTO:+0100
TZNAME:BST
DTSTART:20250330T010000
END:DAYLIGHT
BEGIN:STANDARD
TZOFFSETFROM:+0100
TZOFFSETTO:+0000
TZNAME:GMT
DTSTART:20251026T010000
END:STANDARD
BEGIN:DAYLIGHT
TZOFFSETFROM:+0000
TZOFFSETTO:+0100
TZNAME:BST
DTSTART:20260329T010000
END:DAYLIGHT
BEGIN:STANDARD
TZOFFSETFROM:+0100
TZOFFSETTO:+0000
TZNAME:GMT
DTSTART:20261025T010000
END:STANDARD
BEGIN:DAYLIGHT
TZOFFSETFROM:+0000
TZOFFSETTO:+0100
TZNAME:BST
DTSTART:20270328T010000
END:DAYLIGHT
BEGIN:STANDARD
TZOFFSETFROM:+0100
TZOFFSETTO:+0000
TZNAME:GMT
DTSTART:20271031T010000
END:STANDARD
END:VTIMEZONE
BEGIN:VEVENT
DTSTART;TZID=Europe/London:20260527T090000
DTEND;TZID=Europe/London:20260527T100000
DTSTAMP:20260424T101002
CREATED:20260422T083322Z
LAST-MODIFIED:20260422T083322Z
UID:11150-1779872400-1779876000@innovatecambridge.com
SUMMARY:Cambridge Neuroworks
DESCRIPTION:Kindly note due to this meeting taking place in the boardroom\, it will be unavailable for member use from 9am-10am.
URL:https://innovatecambridge.com/calendar-event/cambridge-neuroworks-34/
LOCATION:Boardroom\, The Glasshouse\, Innovate Cambridge\, Botanic House\, 1st floor\, Cambridge\, CB21PH\, United Kingdom
CATEGORIES:Closed Meeting
ATTACH;FMTTYPE=image/png:https://innovatecambridge.com/wp-content/uploads/2025/09/7-1.png
END:VEVENT
BEGIN:VEVENT
DTSTART;TZID=Europe/London:20260527T100000
DTEND;TZID=Europe/London:20260527T160000
DTSTAMP:20260424T101002
CREATED:20260422T083129Z
LAST-MODIFIED:20260422T083129Z
UID:11147-1779876000-1779897600@innovatecambridge.com
SUMMARY:Amazon Web Services Office Hours
DESCRIPTION:Join us for in-person office hours with AWS Startups at the Glasshouse. Whether you’re looking for technical guidance\, support with AWS Activate\, including credits\, training\, and advice on building cloud and AI-enabled startups\, we’re here to help. \nWho’s it for: Founders of early-stage with a MVP through to scaling tech startups (Series B). Please note\, these sessions are targeted at founders of tech startup and scaleups looking to discuss their AI\, data and cloud needs. If you are an investor/accelerator or other ecosystem organisation please contact AWS startups team directly to discuss potential collaboration. \nThis month’s expert:\nAmali de Alwis – AWS Startups & Venture Capital
URL:https://innovatecambridge.com/calendar-event/amazon-web-services-office-hours-4/
LOCATION:Boardroom\, The Glasshouse\, Innovate Cambridge\, Botanic House\, 1st floor\, Cambridge\, CB21PH\, United Kingdom
CATEGORIES:Open To All
ATTACH;FMTTYPE=image/png:https://innovatecambridge.com/wp-content/uploads/2026/04/AWS-FEB-2-scaled.png
END:VEVENT
END:VCALENDAR