BEGIN:VCALENDAR
VERSION:2.0
PRODID:-//Innovate Cambridge - ECPv6.15.11//NONSGML v1.0//EN
CALSCALE:GREGORIAN
METHOD:PUBLISH
X-ORIGINAL-URL:https://innovatecambridge.com
X-WR-CALDESC:Events for Innovate Cambridge
REFRESH-INTERVAL;VALUE=DURATION:PT1H
X-Robots-Tag:noindex
X-PUBLISHED-TTL:PT1H
BEGIN:VTIMEZONE
TZID:Europe/London
BEGIN:DAYLIGHT
TZOFFSETFROM:+0000
TZOFFSETTO:+0100
TZNAME:BST
DTSTART:20240331T010000
END:DAYLIGHT
BEGIN:STANDARD
TZOFFSETFROM:+0100
TZOFFSETTO:+0000
TZNAME:GMT
DTSTART:20241027T010000
END:STANDARD
BEGIN:DAYLIGHT
TZOFFSETFROM:+0000
TZOFFSETTO:+0100
TZNAME:BST
DTSTART:20250330T010000
END:DAYLIGHT
BEGIN:STANDARD
TZOFFSETFROM:+0100
TZOFFSETTO:+0000
TZNAME:GMT
DTSTART:20251026T010000
END:STANDARD
BEGIN:DAYLIGHT
TZOFFSETFROM:+0000
TZOFFSETTO:+0100
TZNAME:BST
DTSTART:20260329T010000
END:DAYLIGHT
BEGIN:STANDARD
TZOFFSETFROM:+0100
TZOFFSETTO:+0000
TZNAME:GMT
DTSTART:20261025T010000
END:STANDARD
END:VTIMEZONE
BEGIN:VEVENT
DTSTART;TZID=Europe/London:20251110T133000
DTEND;TZID=Europe/London:20251110T173000
DTSTAMP:20260425T001749
CREATED:20251009T123502Z
LAST-MODIFIED:20251111T143110Z
UID:10326-1762781400-1762795800@innovatecambridge.com
SUMMARY:#AgileLeaders: Unlocking Challenging Targets with Small Molecules and Beyond
DESCRIPTION:Biosell UK runs the prestigious life science innovation thought-leader forums #AgileLeaders and #CreativeDisruption (in-person)\, as well as the virtual #coffeebuddies series. These events bring together leading minds in life sciences\, business\, and research to explore the future of innovation. \nThis Agile Leaders Forum will explore “Lab-in-the-Loop: How AI–Experiment Synergy is Shaping the Future of Drug Discovery” — a must-attend session for business and research leaders driving innovation at the intersection of science and technology. \nPlease note: Attendance is open to senior leaders of innovation-focused companies. The organisers  will conduct a vetting process for participants. \n 
URL:https://innovatecambridge.com/calendar-event/agileleaders-unlocking-challenging-targets-with-small-molecules-and-beyond/
LOCATION:Open Space\, The Glasshouse\, Innovate Cambridge\, Botanic House\, 1st floor\, Cambridge\, CB21PH\, United Kingdom
CATEGORIES:Open to Members
ATTACH;FMTTYPE=image/png:https://innovatecambridge.com/wp-content/uploads/2025/09/4-1.png
END:VEVENT
BEGIN:VEVENT
DTSTART;TZID=Europe/London:20251112T180000
DTEND;TZID=Europe/London:20251112T200000
DTSTAMP:20260425T001749
CREATED:20251009T122330Z
LAST-MODIFIED:20251111T183103Z
UID:10323-1762970400-1762977600@innovatecambridge.com
SUMMARY:START 3.0 Launch Event
DESCRIPTION:START 3.0\, delivered by Founders at the University of Cambridge\, is launching soon. \nWith two decades of university startup expertise and a global community\, Founders at the University of Cambridge has helped companies raise over £13M in external capital and move three times faster than they would alone. The START programme provides capital\, mentorship and workspace – accelerating the next generation of AI and DeepTech startups connected to the University of Cambridge. \nFounders\, researchers\, alumni and those interested in supporting early-stage innovation are invited to The Glasshouse\, Cambridge\, for an evening of founder stories\, new connections and programme insights. \nThis in-person event is an opportunity to: \n\nHear directly from previous cohort members about their journeys and successes\nMeet the START team and network with mentors and experts\nPreview the latest updates to the START programme\nAsk questions and connect with the Cambridge innovation community\nPlus\, there will be an exciting announcement you won’t want to miss\n\nPlease register your interest here: START 3.0 Launch · Luma
URL:https://innovatecambridge.com/calendar-event/start-3-0-launch-event/
LOCATION:Open Space\, The Glasshouse\, Innovate Cambridge\, Botanic House\, 1st floor\, Cambridge\, CB21PH\, United Kingdom
CATEGORIES:Open to Members
ATTACH;FMTTYPE=image/jpeg:https://innovatecambridge.com/wp-content/uploads/2025/10/Start3.0.jpg
END:VEVENT
BEGIN:VEVENT
DTSTART;TZID=Europe/London:20251119T173000
DTEND;TZID=Europe/London:20251119T194500
DTSTAMP:20260425T001749
CREATED:20250826T055407Z
LAST-MODIFIED:20251113T100431Z
UID:10155-1763573400-1763581500@innovatecambridge.com
SUMMARY:Business Meets Ideas
DESCRIPTION:Join us for a dynamic networking and pitching session to foster valuable partnerships and discover groundbreaking opportunities that could transform your industry and investment portfolio co-hosted by Impulse and Innovate Cambridge. \nWe are very proud to showcase the innovative ideas and ventures of the Impulse alumni\, featuring up to 12 dynamic 3-minute pitches from our most promising entrepreneurs. \nThe night will consist of a Keynote from Dr David Cleevely CBE FREng FIET\, a dynamic pitching session and networking.
URL:https://innovatecambridge.com/calendar-event/maxwell-impulse-centre-event/
LOCATION:Open Space\, The Glasshouse\, Innovate Cambridge\, Botanic House\, 1st floor\, Cambridge\, CB21PH\, United Kingdom
CATEGORIES:Open to Members
ATTACH;FMTTYPE=image/png:https://innovatecambridge.com/wp-content/uploads/2025/09/4-1.png
END:VEVENT
BEGIN:VEVENT
DTSTART;TZID=Europe/London:20251128T100000
DTEND;TZID=Europe/London:20251128T160000
DTSTAMP:20260425T001749
CREATED:20251112T144904Z
LAST-MODIFIED:20251117T154140Z
UID:10501-1764324000-1764345600@innovatecambridge.com
SUMMARY:Amazon Web Services Office Hours
DESCRIPTION:Are you a tech startup founder in Cambridge exploring how to scale with cloud\, data\, and AI tools? Join us in The Glasshouse for office hours with AWS Startups and special guests Green Custard. \nWhether you’re looking for technical guidance\, support with AWS Activate\, including credits\, training\, and more\, or advice on building cloud and AI-enabled startups\, we’re here to help. \nThis month’s experts: \n\nGeorgi Kolev – AWS Technical Account Manager\nJames Green – Director\nYuci Gou – Solutions Architect\n\nSpots are limited\, book your slot by clicking the button below.
URL:https://innovatecambridge.com/calendar-event/amazon-web-services-office-hours-2/
LOCATION:Boardroom\, The Glasshouse\, Innovate Cambridge\, Botanic House\, 1st floor\, Cambridge\, CB21PH\, United Kingdom
CATEGORIES:Open to Members
ATTACH;FMTTYPE=image/png:https://innovatecambridge.com/wp-content/uploads/2025/11/AWS-Office-Hours-8-scaled.png
END:VEVENT
END:VCALENDAR