BEGIN:VCALENDAR
VERSION:2.0
PRODID:-//Innovate Cambridge - ECPv6.15.11//NONSGML v1.0//EN
CALSCALE:GREGORIAN
METHOD:PUBLISH
X-WR-CALNAME:Innovate Cambridge
X-ORIGINAL-URL:https://innovatecambridge.com
X-WR-CALDESC:Events for Innovate Cambridge
REFRESH-INTERVAL;VALUE=DURATION:PT1H
X-Robots-Tag:noindex
X-PUBLISHED-TTL:PT1H
BEGIN:VTIMEZONE
TZID:Europe/London
BEGIN:DAYLIGHT
TZOFFSETFROM:+0000
TZOFFSETTO:+0100
TZNAME:BST
DTSTART:20240331T010000
END:DAYLIGHT
BEGIN:STANDARD
TZOFFSETFROM:+0100
TZOFFSETTO:+0000
TZNAME:GMT
DTSTART:20241027T010000
END:STANDARD
BEGIN:DAYLIGHT
TZOFFSETFROM:+0000
TZOFFSETTO:+0100
TZNAME:BST
DTSTART:20250330T010000
END:DAYLIGHT
BEGIN:STANDARD
TZOFFSETFROM:+0100
TZOFFSETTO:+0000
TZNAME:GMT
DTSTART:20251026T010000
END:STANDARD
BEGIN:DAYLIGHT
TZOFFSETFROM:+0000
TZOFFSETTO:+0100
TZNAME:BST
DTSTART:20260329T010000
END:DAYLIGHT
BEGIN:STANDARD
TZOFFSETFROM:+0100
TZOFFSETTO:+0000
TZNAME:GMT
DTSTART:20261025T010000
END:STANDARD
END:VTIMEZONE
BEGIN:VEVENT
DTSTART;TZID=Europe/London:20251009T083000
DTEND;TZID=Europe/London:20251009T103000
DTSTAMP:20260425T020453
CREATED:20251001T093540Z
LAST-MODIFIED:20251001T115257Z
UID:10266-1759998600-1760005800@innovatecambridge.com
SUMMARY:Women in AI Breakfast
DESCRIPTION:Women in AI Breakfast by Pillar VC\, in partnership with Cambridge Female Founder Network.  \nThis isn’t your typical breakfast. An academic with a bold research idea? A founder building in AI? Simply curious about the intersection of both? At Pillar VC’s Women in AI Breakfast\, in partnership with Cambridge Female Founders Network\, we’ll deepen relationships\, discuss the frontiers of AI and find tangible ways to support each other. Before the event\, we’ll share asks / offers from amongst the group. After the event\, we’ll work to facilitate connections long into the future. Our goal is to accelerate your work. \nThis event is supported by the Advanced Research + Invention Agency (ARIA) and the Department for Science\, Innovation and Technology.
URL:https://innovatecambridge.com/calendar-event/women-in-ai-breakfast/
LOCATION:Open Space\, The Glasshouse\, Innovate Cambridge\, Botanic House\, 1st floor\, Cambridge\, CB21PH\, United Kingdom
CATEGORIES:Open to Members
ATTACH;FMTTYPE=image/png:https://innovatecambridge.com/wp-content/uploads/2025/10/Women-in- AI-for-Science-Breakfast-1.png
END:VEVENT
BEGIN:VEVENT
DTSTART;TZID=Europe/London:20251009T160000
DTEND;TZID=Europe/London:20251009T180000
DTSTAMP:20260425T020453
CREATED:20250902T095231Z
LAST-MODIFIED:20251002T095431Z
UID:10168-1760025600-1760032800@innovatecambridge.com
SUMMARY:Cambridge Climate Tech Club
DESCRIPTION:Join us for an engaging networking event where we’ll dive into some of today’s most pressing topics in climate and technology: Geothermal Energy\, Grid Transition to Renewables\, Data Centres\, and Blue Carbon. \nWhether you’re completely new to these areas or bring years of expertise\, this is a space to bring your curiosity\, questions\, and ideas. Together\, we’ll explore the challenges\, opportunities\, and innovations shaping the future of these sectors. \nThe discussion will be led by founders from Carbon13’s 9th Cambridge Venture Builder cohort\, who are eager to engage with individuals interested in the climate tech space. \nCome ready to connect\, learn\, and hopefully spark innovation \n\n\n\n\nThe Climate Tech Club is a community of people in and around Cambridge who are passionate about climate change and technology. \nWe host a monthly event where people can share ideas\, collaborate and work together to scale up innovative solutions to the climate crisis. \n\n\n  \nKindly note that due to this event taking place in the open space\, it will be unavailable for member use from 15.00 until closing. Members are encouraged to use the boardroom for this time.
URL:https://innovatecambridge.com/calendar-event/cambridge-cleantech-meetup/
LOCATION:Open Space\, The Glasshouse\, Innovate Cambridge\, Botanic House\, 1st floor\, Cambridge\, CB21PH\, United Kingdom
CATEGORIES:Open to Members
ATTACH;FMTTYPE=image/jpeg:https://innovatecambridge.com/wp-content/uploads/2025/09/climate-tech-club.jpg
END:VEVENT
BEGIN:VEVENT
DTSTART;TZID=Europe/London:20251010T100000
DTEND;TZID=Europe/London:20251010T160000
DTSTAMP:20260425T020453
CREATED:20250929T132137Z
LAST-MODIFIED:20250929T152045Z
UID:10259-1760090400-1760112000@innovatecambridge.com
SUMMARY:Amazon Web Services Office Hours
DESCRIPTION:Kindly note that due to this taking place in the boardroom\, it will not be available for member use from 10:00 – 16:00.
URL:https://innovatecambridge.com/calendar-event/amazon-web-services-office-hours/
LOCATION:Boardroom\, The Glasshouse\, Innovate Cambridge\, Botanic House\, 1st floor\, Cambridge\, CB21PH\, United Kingdom
CATEGORIES:Open to Members
ATTACH;FMTTYPE=image/png:https://innovatecambridge.com/wp-content/uploads/2025/09/AWS-Office-Hours-2-scaled.png
END:VEVENT
BEGIN:VEVENT
DTSTART;TZID=Europe/London:20251030T083000
DTEND;TZID=Europe/London:20251030T120000
DTSTAMP:20260425T020453
CREATED:20250822T092926Z
LAST-MODIFIED:20250822T092926Z
UID:10132-1761813000-1761825600@innovatecambridge.com
SUMMARY:Form the Future: Ambassador Get Together
DESCRIPTION:Details to be confirmed.
URL:https://innovatecambridge.com/calendar-event/form-the-future-ambassador-get-together/
LOCATION:Open Space\, The Glasshouse\, Innovate Cambridge\, Botanic House\, 1st floor\, Cambridge\, CB21PH\, United Kingdom
CATEGORIES:Open to Members
ATTACH;FMTTYPE=image/png:https://innovatecambridge.com/wp-content/uploads/2025/09/4-1.png
END:VEVENT
END:VCALENDAR