BEGIN:VCALENDAR
VERSION:2.0
PRODID:-//Innovate Cambridge - ECPv6.15.11//NONSGML v1.0//EN
CALSCALE:GREGORIAN
METHOD:PUBLISH
X-ORIGINAL-URL:https://innovatecambridge.com
X-WR-CALDESC:Events for Innovate Cambridge
REFRESH-INTERVAL;VALUE=DURATION:PT1H
X-Robots-Tag:noindex
X-PUBLISHED-TTL:PT1H
BEGIN:VTIMEZONE
TZID:Europe/London
BEGIN:DAYLIGHT
TZOFFSETFROM:+0000
TZOFFSETTO:+0100
TZNAME:BST
DTSTART:20240331T010000
END:DAYLIGHT
BEGIN:STANDARD
TZOFFSETFROM:+0100
TZOFFSETTO:+0000
TZNAME:GMT
DTSTART:20241027T010000
END:STANDARD
BEGIN:DAYLIGHT
TZOFFSETFROM:+0000
TZOFFSETTO:+0100
TZNAME:BST
DTSTART:20250330T010000
END:DAYLIGHT
BEGIN:STANDARD
TZOFFSETFROM:+0100
TZOFFSETTO:+0000
TZNAME:GMT
DTSTART:20251026T010000
END:STANDARD
BEGIN:DAYLIGHT
TZOFFSETFROM:+0000
TZOFFSETTO:+0100
TZNAME:BST
DTSTART:20260329T010000
END:DAYLIGHT
BEGIN:STANDARD
TZOFFSETFROM:+0100
TZOFFSETTO:+0000
TZNAME:GMT
DTSTART:20261025T010000
END:STANDARD
END:VTIMEZONE
BEGIN:VEVENT
DTSTART;TZID=Europe/London:20250909T083000
DTEND;TZID=Europe/London:20250909T103000
DTSTAMP:20260425T041041
CREATED:20250815T122428Z
LAST-MODIFIED:20250815T122428Z
UID:10100-1757406600-1757413800@innovatecambridge.com
SUMMARY:ProximiTEA and Pastries Breakfast Event
DESCRIPTION:We’re excited to invite you to a special Members Breakfast in collaboration with Cambridge Biomedical Campus Ltd as they launch their new report: The Power of Proximity. We’ll explore how proximity is driving innovation on the Campus and across Cambridge. \n  \nWhat to expect: \n✨ A thought-provoking panel discussion! \n  Uncover various proximity moments that have sparked ideas\, unlocked funding and led to unexpected collaborations. \n  Proximity themed networking! \n☕ A delicious spread of pastries and freshly brewed coffee to start your day with energy and intention. \n  \n \nAgenda \n08:30 – 08:45 – Arrivals/ breakfast \n08:45- 08:55 – Introduction to the Power of Proximity concept and report by Laurel Powers-Freeling\, Chair of Cambridge Biomedical Campus Ltd \n08:55 – 09:30 – Panel discussion hosted by David Cleevely on ‘How proximity is driving innovation across Cambridge’.  \nPanelists include: \n• Professor Dame Diane Coyle (Bennett Professor of Public Policy and Research Director\, University of Cambridge) \n• Robert Evans\, (CEO\, Wellcome Genome Campus) \n• Professor Rebecca Fitzgerald\, (Li Ka Shing\, Early Cancer Institute\, University of Cambridge) \n• Steve Rees\, (SVP Discovery Sciences\, AstraZeneca) \n09:30 – 10:30 – Networking with proximity related prompts \n  \nKindly note that due to this event taking place in the community space\, members are encouraged to use the boardroom for the duration of this event.
URL:https://innovatecambridge.com/calendar-event/proximitea-and-pastries-breakfast-event/
LOCATION:Open Space\, The Glasshouse\, Innovate Cambridge\, Botanic House\, 1st floor\, Cambridge\, CB21PH\, United Kingdom
CATEGORIES:Open to Members
ATTACH;FMTTYPE=image/png:https://innovatecambridge.com/wp-content/uploads/2025/09/ProximiTEA-and-Pastries-2-scaled-1.png
END:VEVENT
BEGIN:VEVENT
DTSTART;TZID=Europe/London:20250912T120000
DTEND;TZID=Europe/London:20250912T130000
DTSTAMP:20260425T041041
CREATED:20250821T071757Z
LAST-MODIFIED:20250821T071757Z
UID:10101-1757678400-1757682000@innovatecambridge.com
SUMMARY:Commercialisation Office Hour with Mark Rogers
DESCRIPTION:Glasshouse members Mark Rogers and guest Andrew Hatcher are delighted to be hosting an upcoming office hour. \nAs an active angel investor\, Mark has backed companies such as LineUpNow (theatre ticketing)\, DitchCarbon (carbon data aggregation)\, and Traitseq (AI for seed improvement). With a background spanning the BBC\, Amazon\, multiple SaaS ventures\, and private equity\, Mark brings deep expertise in go-to-market strategy\, product–market fit\, and scaling. \nIf you’re looking for advice on pricing\, channels\, or product–market fit\, this is a great opportunity to get practical\, experienced insight. \nKindly note that the boardroom will be unavailable for members for the duration of this office hour.
URL:https://innovatecambridge.com/calendar-event/commercialisation-office-hour-with-mark-rogers/
LOCATION:Boardroom\, The Glasshouse\, Innovate Cambridge\, Botanic House\, 1st floor\, Cambridge\, CB21PH\, United Kingdom
CATEGORIES:Open to Members
ATTACH;FMTTYPE=image/png:https://innovatecambridge.com/wp-content/uploads/2025/09/4-1.png
END:VEVENT
BEGIN:VEVENT
DTSTART;TZID=Europe/London:20250918T100000
DTEND;TZID=Europe/London:20250918T130000
DTSTAMP:20260425T041041
CREATED:20250821T071729Z
LAST-MODIFIED:20250821T071729Z
UID:10108-1758189600-1758200400@innovatecambridge.com
SUMMARY:Innovating Workplaces: AI\, Responsible People Practices and the Paradoxes of Change
DESCRIPTION:Emerging technologies\, particularly AI\, are reshaping the workplace and redefining inclusion. This highly interactive workshop\, delivered in collaboration with the University of Bedford\, uses the LEGO® SERIOUS PLAY® methodology to explore the paradoxes of AI in inclusive practices and innovation. \nWhat you’ll gain:\n– Hands-on activities to identify workplace challenges and opportunities.\n– Practical strategies for designing ethical\, human-centred systems.\n– Insights you can immediately apply in your organisation. \nWho should attend:\nHR leaders\, DEI practitioners\, technologists\, managers\, and anyone navigating digital transformation with a focus on inclusion. \nKindly note that due to this event taking place in the community space\, members are encouraged to use the boardroom for the duration of this event. 
URL:https://innovatecambridge.com/calendar-event/innovating-workplaces-ai-responsible-people-practices-and-the-paradoxes-of-change/
LOCATION:Open Space\, The Glasshouse\, Innovate Cambridge\, Botanic House\, 1st floor\, Cambridge\, CB21PH\, United Kingdom
CATEGORIES:Open to Members
ATTACH;FMTTYPE=image/png:https://innovatecambridge.com/wp-content/uploads/2025/09/ai-respons-btls.png
END:VEVENT
BEGIN:VEVENT
DTSTART;TZID=Europe/London:20250918T140000
DTEND;TZID=Europe/London:20250918T163000
DTSTAMP:20260425T041041
CREATED:20250818T121253Z
LAST-MODIFIED:20250818T121253Z
UID:10103-1758204000-1758213000@innovatecambridge.com
SUMMARY:Is Being A Tech Founder Still A Bro Sport?
DESCRIPTION:Despite decades of conversation around diversity in tech\, the archetype of the entrepreneur remains stubbornly narrow\, male and often from elite institutions. In addition\, equity funding remains male-dominated\, despite over a decade of initiatives to encourage and support more women founders. This panel asks the provocative question: is being a tech founder still a bro sport? \nThis panel will be exploring the structural\, cultural and financial barriers that continue to shape who gets to innovate\, who gets funded and who gets heard in the tech world. Are new funding models and accelerators helping to democratise access to capital? How are gender\, race and class shaping the founder experience? And what role does media play in reinforcing or challenging the dominant narratives? \nThis conversation is not just about representation\, it’s about the future of innovation. If we continue to build technology through a narrow lens\, we risk creating products and systems that serve a limited few. Join us as we interrogate who gets to build the future and what it will take to make the founder identity more expansive\, inclusive and equitable. \nThis event is jointly hosted by Cambridge Judge Business School\, University of Cambridge and Black Talent & Leadership in STEM \nKindly note that due to this event taking place in the community space\, members are encouraged to use the boardroom for the duration of this event.
URL:https://innovatecambridge.com/calendar-event/is-being-a-tech-founder-still-a-bro-sport/
LOCATION:Open Space\, The Glasshouse\, Innovate Cambridge\, Botanic House\, 1st floor\, Cambridge\, CB21PH\, United Kingdom
CATEGORIES:Open to Members
ATTACH;FMTTYPE=image/png:https://innovatecambridge.com/wp-content/uploads/2025/09/tech-founder-bro-sport.png
END:VEVENT
BEGIN:VEVENT
DTSTART;TZID=Europe/London:20250918T180000
DTEND;TZID=Europe/London:20250918T200000
DTSTAMP:20260425T041041
CREATED:20250822T090342Z
LAST-MODIFIED:20250822T090342Z
UID:10121-1758218400-1758225600@innovatecambridge.com
SUMMARY:Innovating Workplaces: AI\, Responsible People Practices and the Paradoxes of Change
DESCRIPTION:Emerging technologies\, particularly AI\, are reshaping the workplace and redefining inclusion. This highly interactive workshop\, delivered in collaboration with the University of Bedford\, uses the LEGO® SERIOUS PLAY® methodology to explore the paradoxes of AI in inclusive practices and innovation. \nWhat you’ll gain:\n– Hands-on activities to identify workplace challenges and opportunities.\n– Practical strategies for designing ethical\, human-centred systems.\n– Insights you can immediately apply in your organisation. \nWho should attend:\nHR leaders\, DEI practitioners\, technologists\, managers\, and anyone navigating digital transformation with a focus on inclusion. \n 
URL:https://innovatecambridge.com/calendar-event/innovating-workplaces-ai-responsible-people-practices-and-the-paradoxes-of-change-2/
LOCATION:Open Space\, The Glasshouse\, Innovate Cambridge\, Botanic House\, 1st floor\, Cambridge\, CB21PH\, United Kingdom
CATEGORIES:Open to Members
ATTACH;FMTTYPE=image/png:https://innovatecambridge.com/wp-content/uploads/2025/09/ai-respons-btls.png
END:VEVENT
BEGIN:VEVENT
DTSTART;TZID=Europe/London:20250919T110000
DTEND;TZID=Europe/London:20250919T123000
DTSTAMP:20260425T041041
CREATED:20250821T071700Z
LAST-MODIFIED:20250821T071700Z
UID:10106-1758279600-1758285000@innovatecambridge.com
SUMMARY:Nurturing Human Empathy in the Age of AI
DESCRIPTION:How can we nurture human empathy in the age of AI? Join Mainda Kiwelu (Cambridge Visual Dialogues) and Neelima Alluri (Chain of Thought AI) for an interactive exploration of how empathy and creativity can help us build more meaningful solutions with technology. \nThrough the Visual Thinking Strategies (VTS) methodology\, they’ll demonstrate how observing art together can strengthen empathy and collaboration\, skills that can be carried into how we work with AI. \nThe session will also feature a case study from a Cambridge start-up\, showing how AI\, when designed thoughtfully\, can protect rather than replace human empathy\, enabling teams to focus on trust\, care\, and impact. \nKindly note that due to this event taking place in the community space\, members are encouraged to use the boardroom for the duration of this event.
URL:https://innovatecambridge.com/calendar-event/nurturing-human-empathy-in-the-age-of-ai/
LOCATION:Open Space\, The Glasshouse\, Innovate Cambridge\, Botanic House\, 1st floor\, Cambridge\, CB21PH\, United Kingdom
CATEGORIES:Open to Members
ATTACH;FMTTYPE=image/png:https://innovatecambridge.com/wp-content/uploads/2025/09/Untitled-design-18.png
END:VEVENT
BEGIN:VEVENT
DTSTART;TZID=Europe/London:20250924T160000
DTEND;TZID=Europe/London:20250924T180000
DTSTAMP:20260425T041041
CREATED:20250821T071636Z
LAST-MODIFIED:20250821T071636Z
UID:10104-1758729600-1758736800@innovatecambridge.com
SUMMARY:Drink'n'Think with James Root
DESCRIPTION:We’re excited to invite you to a special edition of Innovate Cambridge’s Drink’n’Think – this time featuring James Root\, author of The Archetype Effect. \nJoin us for an evening where fresh ideas meet genuine connection\, with: \n\n A reflective conversation on the future of work and your personal archetype\nInteractive networking designed to spark meaningful connections\nInsights from cutting-edge research into how archetypes shape careers\nOpportunities to meet and collaborate with members of the Innovate Cambridge community\n\nKindly note that due to this event taking place in the community space\, members are encouraged to use the boardroom for the duration of this event.
URL:https://innovatecambridge.com/calendar-event/drinknthink-with-james-root/
LOCATION:Open Space\, The Glasshouse\, Innovate Cambridge\, Botanic House\, 1st floor\, Cambridge\, CB21PH\, United Kingdom
CATEGORIES:Open to Members
ATTACH;FMTTYPE=image/png:https://innovatecambridge.com/wp-content/uploads/2025/09/JR-DnT-1-scaled-1.png
END:VEVENT
BEGIN:VEVENT
DTSTART;TZID=Europe/London:20250925T060000
DTEND;TZID=Europe/London:20250925T200000
DTSTAMP:20260425T041041
CREATED:20250822T092447Z
LAST-MODIFIED:20250822T092447Z
UID:10128-1758780000-1758830400@innovatecambridge.com
SUMMARY:Indie Cambridge Networking Event
DESCRIPTION:Join Indie Cambridge at their next indie drop-in session and connect with local business owners in a supportive and collaborative environment.  Maybe you have a question or an issue you’re keen to get feedback or help on. These sessions are designed to be small\, focused\, and relaxed\, offering an opportunity to share knowledge\, exchange skills\, and seek constructive feedback on any questions or challenges you may be facing. The aim is to foster genuine connections and practical discussions that help you and your business move forward. \nRSVP by Wednesday 17th September by emailing Sue Walden.
URL:https://innovatecambridge.com/calendar-event/indie-cambridge-networking-event/
LOCATION:Open Space\, The Glasshouse\, Innovate Cambridge\, Botanic House\, 1st floor\, Cambridge\, CB21PH\, United Kingdom
CATEGORIES:Open to Members
ATTACH;FMTTYPE=image/png:https://innovatecambridge.com/wp-content/uploads/2025/09/4-1.png
END:VEVENT
BEGIN:VEVENT
DTSTART;TZID=Europe/London:20250925T140000
DTEND;TZID=Europe/London:20250925T163000
DTSTAMP:20260425T041041
CREATED:20250821T071617Z
LAST-MODIFIED:20250821T071617Z
UID:10105-1758808800-1758817800@innovatecambridge.com
SUMMARY:Founders Growth Community Networking
DESCRIPTION:Join Founders Growth Community x Innovate Cambridge for our monthly drop in and networking event! This is a space for entrepreneurs\, startup founders\, and innovators to work\, connect\, and grow. Drop in anytime between 12 – 4pm. \nAbout the Founders Growth Community\nThe Founders Growth Community (FGC) has been created to support pre-series A life science/biotech founders and leaders. The group helps to accelerate the funding process with workshops and networking and an online community to share resources and advice. \nThe initiative came from an idea at the Milner Therapeutics Institute\, who then formed a coalition of like-minded accelerators and incubators to turn the idea into reality. The other leading partners are Babraham Research Campus\, o2h\, and Illumina Venture Labs. \nKindly note that due to this event taking place in the community space\, members are encouraged to use the boardroom for the duration of this event.
URL:https://innovatecambridge.com/calendar-event/founders-growth-community-networking/
LOCATION:Open Space\, The Glasshouse\, Innovate Cambridge\, Botanic House\, 1st floor\, Cambridge\, CB21PH\, United Kingdom
CATEGORIES:Open to Members
ATTACH;FMTTYPE=image/png:https://innovatecambridge.com/wp-content/uploads/2025/09/FGC-Networking.png
END:VEVENT
END:VCALENDAR