BEGIN:VCALENDAR
VERSION:2.0
PRODID:-//Innovate Cambridge - ECPv6.15.11//NONSGML v1.0//EN
CALSCALE:GREGORIAN
METHOD:PUBLISH
X-ORIGINAL-URL:https://innovatecambridge.com
X-WR-CALDESC:Events for Innovate Cambridge
REFRESH-INTERVAL;VALUE=DURATION:PT1H
X-Robots-Tag:noindex
X-PUBLISHED-TTL:PT1H
BEGIN:VTIMEZONE
TZID:Europe/London
BEGIN:DAYLIGHT
TZOFFSETFROM:+0000
TZOFFSETTO:+0100
TZNAME:BST
DTSTART:20250330T010000
END:DAYLIGHT
BEGIN:STANDARD
TZOFFSETFROM:+0100
TZOFFSETTO:+0000
TZNAME:GMT
DTSTART:20251026T010000
END:STANDARD
BEGIN:DAYLIGHT
TZOFFSETFROM:+0000
TZOFFSETTO:+0100
TZNAME:BST
DTSTART:20260329T010000
END:DAYLIGHT
BEGIN:STANDARD
TZOFFSETFROM:+0100
TZOFFSETTO:+0000
TZNAME:GMT
DTSTART:20261025T010000
END:STANDARD
BEGIN:DAYLIGHT
TZOFFSETFROM:+0000
TZOFFSETTO:+0100
TZNAME:BST
DTSTART:20270328T010000
END:DAYLIGHT
BEGIN:STANDARD
TZOFFSETFROM:+0100
TZOFFSETTO:+0000
TZNAME:GMT
DTSTART:20271031T010000
END:STANDARD
END:VTIMEZONE
BEGIN:VEVENT
DTSTART;TZID=Europe/London:20260210T170000
DTEND;TZID=Europe/London:20260210T200000
DTSTAMP:20260424T151932
CREATED:20260114T124642Z
LAST-MODIFIED:20260114T124642Z
UID:10704-1770742800-1770753600@innovatecambridge.com
SUMMARY:Venture Cafe Cambridge Connect
DESCRIPTION:This month’s Venture Cafe Cambridge Connect event will be delving into SportsTech as a living lab for Innovation\, Development and Inclusion. More details coming soon!
URL:https://innovatecambridge.com/calendar-event/venture-cafe-cambridge-connect/
LOCATION:The Glasshouse\, Innovate Cambridge\, Botanic House\, 100 Hills Rd\, Cambridge\, Cambridgeshire\, CB2 1PH\, United Kingdom
CATEGORIES:Open To All
ATTACH;FMTTYPE=image/png:https://innovatecambridge.com/wp-content/uploads/2026/01/EMAIl.png
END:VEVENT
BEGIN:VEVENT
DTSTART;TZID=Europe/London:20260210T170000
DTEND;TZID=Europe/London:20260210T200000
DTSTAMP:20260424T151932
CREATED:20260210T112639Z
LAST-MODIFIED:20260210T112639Z
UID:10806-1770742800-1770753600@innovatecambridge.com
SUMMARY:Grounded AI Event
DESCRIPTION:Details to be confirmed.
URL:https://innovatecambridge.com/calendar-event/grounded-ai-event/
LOCATION:Open Space\, The Glasshouse\, Innovate Cambridge\, Botanic House\, 1st floor\, Cambridge\, CB21PH\, United Kingdom
CATEGORIES:Open To All
ATTACH;FMTTYPE=image/png:https://innovatecambridge.com/wp-content/uploads/2025/09/5-1.png
END:VEVENT
BEGIN:VEVENT
DTSTART;TZID=Europe/London:20260211T173000
DTEND;TZID=Europe/London:20260211T200000
DTSTAMP:20260424T151932
CREATED:20251212T171420Z
LAST-MODIFIED:20260120T141853Z
UID:10657-1770831000-1770840000@innovatecambridge.com
SUMMARY:Live Podcast Recording: Tales of the Game
DESCRIPTION:Innovate Cambridge hosts the inaugural live recording of the Tales Of The Game podcast\, a premium series exploring the space between ambition and reality. \nSupported by BBC Radio Cambridgeshire\, host Saleem Akanbi welcomes two local special guests from Cambridge United to deconstruct the raw truths of high-performance industries. This is an evening for the future leaders and restless innovators of Cambridge to connect\, network\, and gain the blueprints needed to bridge the gap in their own journeys. \nThe Schedule: \n\n18:00: Arrival & Elite Networking (Light refreshments provided)\n18:30: Live Recording Begins (Prompt)\n19:30: Audience Q&A\n20:00: Carriages\n\n*Tickets are free but strictly limited to maintain an intimate environment\, secure via the link.*
URL:https://innovatecambridge.com/calendar-event/live-podcast-recording-tales-of-the-game/
LOCATION:Open Space\, The Glasshouse\, Innovate Cambridge\, Botanic House\, 1st floor\, Cambridge\, CB21PH\, United Kingdom
CATEGORIES:Open To All
ATTACH;FMTTYPE=image/webp:https://innovatecambridge.com/wp-content/uploads/2025/12/tale-of-the-game.webp
END:VEVENT
BEGIN:VEVENT
DTSTART;TZID=Europe/London:20260212T090000
DTEND;TZID=Europe/London:20260212T170000
DTSTAMP:20260424T151932
CREATED:20260210T112321Z
LAST-MODIFIED:20260210T112321Z
UID:10802-1770886800-1770915600@innovatecambridge.com
SUMMARY:Innovate UK Business Growth: Surgery Sessions with Chris Ellis
DESCRIPTION:Join us at The Glasshouse for dedicated surgery sessions in partnership with Innovate UK Business Growth\, designed to help founders navigate funding and business growth opportunities across UK and European ecosystems. \nWhether you’re exploring Innovate UK grants\, seeking strategic business support specific to commercializing innovation\, with international horizons\, or just want a sounding board on capitalisation thinking\, these 45-minute one-to-one sessions are a great ‘safe space’ to discuss options and connect. \nHow to apply: To be considered\, please email us at admin@innovatecambridge.com with a short one-paragraph summary of the topic you’d like to discuss\, along with your name and contact email address. \n *Please note: to ensure the most productive use of everyone’s time\, we ask that only businesses that have already been incorporated apply. *
URL:https://innovatecambridge.com/calendar-event/innovate-uk-business-growth-surgery-sessions-with-chris-ellis/
LOCATION:Open Space\, The Glasshouse\, Innovate Cambridge\, Botanic House\, 1st floor\, Cambridge\, CB21PH\, United Kingdom
CATEGORIES:Open To All
ATTACH;FMTTYPE=image/png:https://innovatecambridge.com/wp-content/uploads/2025/09/5.png
END:VEVENT
BEGIN:VEVENT
DTSTART;TZID=Europe/London:20260212T120000
DTEND;TZID=Europe/London:20260212T170000
DTSTAMP:20260424T151932
CREATED:20260115T110212Z
LAST-MODIFIED:20260128T162917Z
UID:10713-1770897600-1770915600@innovatecambridge.com
SUMMARY:Founders Growth Community
DESCRIPTION:You are invited to the upcoming Monthly Founders Growth Community x Innovate Cambridge Networking / Drop-in event at the Glasshouse on Thursday 12th February. Drop in anytime between 12-4pm to co-work alongside other founders and then stay for the dedicated networking session from 4-5pm for good conversation\, new connections\, and nibbles.
URL:https://innovatecambridge.com/calendar-event/founders-growth-community-4/
LOCATION:Open Space\, The Glasshouse\, Innovate Cambridge\, Botanic House\, 1st floor\, Cambridge\, CB21PH\, United Kingdom
CATEGORIES:Open To All
ATTACH;FMTTYPE=image/png:https://innovatecambridge.com/wp-content/uploads/2025/09/5.png
END:VEVENT
BEGIN:VEVENT
DTSTART;TZID=Europe/London:20260213T103000
DTEND;TZID=Europe/London:20260213T120000
DTSTAMP:20260424T151932
CREATED:20260127T180545Z
LAST-MODIFIED:20260127T183452Z
UID:10770-1770978600-1770984000@innovatecambridge.com
SUMMARY:Build for Humans: Neural Commons
DESCRIPTION:Join the BBC’s UX and Inclusive Design teams\, together with researchers from Durham University Centre for Research into Inner Experience and the Cambridge ThinkLab\, for an interactive session on the Neural Commons: a new approach to building emotional accessibility into products and AI. \nExpect early insights\, open discussion\, and a look at the research shaping this work. \nThis event is open to anyone interested in shaping the future of digital experiences: product leads\, designers\, engineers\, researchers\, technologists\, game developers and anyone exploring the intersections of UX\, AI\, ethics\, and public-value technology.
URL:https://innovatecambridge.com/calendar-event/build-for-humans-neural-commons/
LOCATION:Open Space\, The Glasshouse\, Innovate Cambridge\, Botanic House\, 1st floor\, Cambridge\, CB21PH\, United Kingdom
CATEGORIES:Open To All
ATTACH;FMTTYPE=image/jpeg:https://innovatecambridge.com/wp-content/uploads/2026/01/neural-commons-event.jpg
END:VEVENT
BEGIN:VEVENT
DTSTART;TZID=Europe/London:20260220T083000
DTEND;TZID=Europe/London:20260220T110000
DTSTAMP:20260424T151932
CREATED:20260126T141658Z
LAST-MODIFIED:20260126T141658Z
UID:10754-1771576200-1771585200@innovatecambridge.com
SUMMARY:Open Coffee Cambridge
DESCRIPTION:CAMentrepreneurs and Innovate Cambridge invite you to the next Open Coffee Cambridge event on 20th February 2026\, with events occurring monthly on the 3rd Friday of each month. \nJeremy Leong – Founder\, Rainbow Rocket and part of the CAMentrepreneurs Cambridge team will be hosting the event including a fireside chat with a special guest\, soon to be revealed. \nThe discussion will be followed by informal networking\, a relaxed opportunity to ask questions\, share ideas\, and connect over coffee. Whether you’re a founder\, researcher\, investor\, or simply curious about the ecosystem\, Open Coffee is your space to connect\, collaborate\, and be inspired. \n​​08:30 – 08:50 – Registration/Networking ​ \n​08:50 – 9:30 – Open Coffee Style Introductions \n09:30-10:10 Fireside Chat & Q&A \n​10:10 – 10:45 Networking \n​10:45 – 11:00 – Tidy up
URL:https://innovatecambridge.com/calendar-event/open-coffee-cambridge-3/
LOCATION:Open Space\, The Glasshouse\, Innovate Cambridge\, Botanic House\, 1st floor\, Cambridge\, CB21PH\, United Kingdom
CATEGORIES:Open To All
ATTACH;FMTTYPE=image/png:https://innovatecambridge.com/wp-content/uploads/2025/09/Untitled-design-16-scaled-1.png
END:VEVENT
BEGIN:VEVENT
DTSTART;TZID=Europe/London:20260226T173000
DTEND;TZID=Europe/London:20260226T200000
DTSTAMP:20260424T151932
CREATED:20260126T142537Z
LAST-MODIFIED:20260204T084024Z
UID:10758-1772127000-1772136000@innovatecambridge.com
SUMMARY:BioData Venture Collective Launch
DESCRIPTION:Building a venture is challenging but building at the intersection of technology and life sciences – while exciting – can be even more complex. As a dedicated environment for TechBio and BioData led companies continues to take shape on the Wellcome Genome Campus\, the BioData Venture Collective is being launched to support innovators\, operators\, and investors developing the next generation of biodata-driven technologies and companies. \nThis panel discussion will explore what it takes to start and scale a BioData venture\, while also introducing the BioData Venture Collective and how the programme is designed to support founders throughout their journey.
URL:https://innovatecambridge.com/calendar-event/private-event-19/
LOCATION:Open Space\, The Glasshouse\, Innovate Cambridge\, Botanic House\, 1st floor\, Cambridge\, CB21PH\, United Kingdom
CATEGORIES:Open To All,Open to Members
ATTACH;FMTTYPE=image/webp:https://innovatecambridge.com/wp-content/uploads/2026/01/BIO-data-venture-launch.webp
END:VEVENT
BEGIN:VEVENT
DTSTART;TZID=Europe/London:20260227T100000
DTEND;TZID=Europe/London:20260227T160000
DTSTAMP:20260424T151932
CREATED:20260204T110744Z
LAST-MODIFIED:20260204T110744Z
UID:10778-1772186400-1772208000@innovatecambridge.com
SUMMARY:AWS Startups in-person office hours at The Glasshouse
DESCRIPTION:Are you a tech startup founder in or around Cambridge exploring how to scale with cloud\, data\, and AI? Join us for in-person office hours with AWS Startups at the Glasshouse. Whether you’re looking for technical guidance\, support with AWS Activate\, including credits\, training\, and advice on building cloud and AI-enabled startups\, we’re here to help.Date: Fri 27th February 2025\nWho’s it for: Founders of early-stage with a MVP through to scaling tech startups (Series B). Please note\, these sessions are targeted at founders of tech startup and scaleups looking to discuss their AI\, data and cloud needs. If you are an investor/accelerator or other ecosystem organisation please contact AWS startups team directly to discuss potential collaboration. \nThis month’s experts:\nAmali de Alwis – AWS Startups & Venture Capital\nGeorgi Kolev – AWS Technical Account Manager
URL:https://innovatecambridge.com/calendar-event/aws-startups-in-person-office-hours-at-the-glasshouse/
LOCATION:Boardroom\, The Glasshouse\, Innovate Cambridge\, Botanic House\, 1st floor\, Cambridge\, CB21PH\, United Kingdom
CATEGORIES:Open To All
ATTACH;FMTTYPE=image/png:https://innovatecambridge.com/wp-content/uploads/2026/02/AWS-FEB-scaled.png
END:VEVENT
END:VCALENDAR