BEGIN:VCALENDAR
VERSION:2.0
PRODID:-//Innovate Cambridge - ECPv6.15.11//NONSGML v1.0//EN
CALSCALE:GREGORIAN
METHOD:PUBLISH
X-ORIGINAL-URL:https://innovatecambridge.com
X-WR-CALDESC:Events for Innovate Cambridge
REFRESH-INTERVAL;VALUE=DURATION:PT1H
X-Robots-Tag:noindex
X-PUBLISHED-TTL:PT1H
BEGIN:VTIMEZONE
TZID:Europe/London
BEGIN:DAYLIGHT
TZOFFSETFROM:+0000
TZOFFSETTO:+0100
TZNAME:BST
DTSTART:20240331T010000
END:DAYLIGHT
BEGIN:STANDARD
TZOFFSETFROM:+0100
TZOFFSETTO:+0000
TZNAME:GMT
DTSTART:20241027T010000
END:STANDARD
BEGIN:DAYLIGHT
TZOFFSETFROM:+0000
TZOFFSETTO:+0100
TZNAME:BST
DTSTART:20250330T010000
END:DAYLIGHT
BEGIN:STANDARD
TZOFFSETFROM:+0100
TZOFFSETTO:+0000
TZNAME:GMT
DTSTART:20251026T010000
END:STANDARD
BEGIN:DAYLIGHT
TZOFFSETFROM:+0000
TZOFFSETTO:+0100
TZNAME:BST
DTSTART:20260329T010000
END:DAYLIGHT
BEGIN:STANDARD
TZOFFSETFROM:+0100
TZOFFSETTO:+0000
TZNAME:GMT
DTSTART:20261025T010000
END:STANDARD
END:VTIMEZONE
BEGIN:VEVENT
DTSTART;TZID=Europe/London:20250528T173000
DTEND;TZID=Europe/London:20250528T190000
DTSTAMP:20260419T130143
CREATED:20250527T105554Z
LAST-MODIFIED:20250527T105554Z
UID:10094-1748453400-1748458800@innovatecambridge.com
SUMMARY:Cambridge Gravity Bio-Spark Programme
DESCRIPTION:
URL:https://innovatecambridge.com/calendar-event/cambridge-gravity-bio-spark-programme/
LOCATION:The Glasshouse\, Innovate Cambridge\, Botanic House\, 100 Hills Rd\, Cambridge\, Cambridgeshire\, CB2 1PH\, United Kingdom
CATEGORIES:Glasshouse Closed
END:VEVENT
END:VCALENDAR