BEGIN:VCALENDAR
VERSION:2.0
PRODID:-//Innovate Cambridge - ECPv6.15.11//NONSGML v1.0//EN
CALSCALE:GREGORIAN
METHOD:PUBLISH
X-WR-CALNAME:Innovate Cambridge
X-ORIGINAL-URL:https://innovatecambridge.com
X-WR-CALDESC:Events for Innovate Cambridge
REFRESH-INTERVAL;VALUE=DURATION:PT1H
X-Robots-Tag:noindex
X-PUBLISHED-TTL:PT1H
BEGIN:VTIMEZONE
TZID:Europe/London
BEGIN:DAYLIGHT
TZOFFSETFROM:+0000
TZOFFSETTO:+0100
TZNAME:BST
DTSTART:20250330T010000
END:DAYLIGHT
BEGIN:STANDARD
TZOFFSETFROM:+0100
TZOFFSETTO:+0000
TZNAME:GMT
DTSTART:20251026T010000
END:STANDARD
BEGIN:DAYLIGHT
TZOFFSETFROM:+0000
TZOFFSETTO:+0100
TZNAME:BST
DTSTART:20260329T010000
END:DAYLIGHT
BEGIN:STANDARD
TZOFFSETFROM:+0100
TZOFFSETTO:+0000
TZNAME:GMT
DTSTART:20261025T010000
END:STANDARD
BEGIN:DAYLIGHT
TZOFFSETFROM:+0000
TZOFFSETTO:+0100
TZNAME:BST
DTSTART:20270328T010000
END:DAYLIGHT
BEGIN:STANDARD
TZOFFSETFROM:+0100
TZOFFSETTO:+0000
TZNAME:GMT
DTSTART:20271031T010000
END:STANDARD
END:VTIMEZONE
BEGIN:VEVENT
DTSTART;TZID=Europe/London:20260311T100000
DTEND;TZID=Europe/London:20260311T130000
DTSTAMP:20260425T170218
CREATED:20260210T112057Z
LAST-MODIFIED:20260210T112057Z
UID:10800-1773223200-1773234000@innovatecambridge.com
SUMMARY:Private Meeting
DESCRIPTION:Kindly note due to this meeting taking place in the boardroom\, it will be unavailable for member use from 10am-1pm.
URL:https://innovatecambridge.com/calendar-event/private-meeting-67/
LOCATION:Boardroom\, The Glasshouse\, Innovate Cambridge\, Botanic House\, 1st floor\, Cambridge\, CB21PH\, United Kingdom
CATEGORIES:Closed Meeting
ATTACH;FMTTYPE=image/png:https://innovatecambridge.com/wp-content/uploads/2025/09/7-1.png
END:VEVENT
BEGIN:VEVENT
DTSTART;TZID=Europe/London:20260313T100000
DTEND;TZID=Europe/London:20260313T120000
DTSTAMP:20260425T170218
CREATED:20260223T140033Z
LAST-MODIFIED:20260223T140033Z
UID:10840-1773396000-1773403200@innovatecambridge.com
SUMMARY:Private Meeting
DESCRIPTION:Kindly note due to this meeting taking place in the boardroom\, it will be unavailable for member use from 10am-12pm.
URL:https://innovatecambridge.com/calendar-event/private-meeting-70/
LOCATION:Boardroom\, The Glasshouse\, Innovate Cambridge\, Botanic House\, 1st floor\, Cambridge\, CB21PH\, United Kingdom
CATEGORIES:Closed Meeting
ATTACH;FMTTYPE=image/png:https://innovatecambridge.com/wp-content/uploads/2025/09/7-1.png
END:VEVENT
BEGIN:VEVENT
DTSTART;TZID=Europe/London:20260313T140000
DTEND;TZID=Europe/London:20260313T160000
DTSTAMP:20260425T170218
CREATED:20260223T140157Z
LAST-MODIFIED:20260223T140157Z
UID:10842-1773410400-1773417600@innovatecambridge.com
SUMMARY:Private Meeting
DESCRIPTION:Kindly note due to this meeting taking place in the boardroom\, it will be unavailable for member use from 2pm-4pm.
URL:https://innovatecambridge.com/calendar-event/private-meeting-71/
LOCATION:Boardroom\, The Glasshouse\, Innovate Cambridge\, Botanic House\, 1st floor\, Cambridge\, CB21PH\, United Kingdom
CATEGORIES:Closed Meeting
ATTACH;FMTTYPE=image/png:https://innovatecambridge.com/wp-content/uploads/2025/09/7.png
END:VEVENT
BEGIN:VEVENT
DTSTART;TZID=Europe/London:20260316T110000
DTEND;TZID=Europe/London:20260316T163000
DTSTAMP:20260425T170218
CREATED:20260210T112807Z
LAST-MODIFIED:20260223T140551Z
UID:10809-1773658800-1773678600@innovatecambridge.com
SUMMARY:Private Meeting
DESCRIPTION:Kindly note due to this meeting taking place in the boardroom\, it will be unavailable for member use from 11am-4.30pm.
URL:https://innovatecambridge.com/calendar-event/private-meeting-68/
LOCATION:Boardroom\, The Glasshouse\, Innovate Cambridge\, Botanic House\, 1st floor\, Cambridge\, CB21PH\, United Kingdom
CATEGORIES:Closed Meeting
ATTACH;FMTTYPE=image/png:https://innovatecambridge.com/wp-content/uploads/2025/09/7-1.png
END:VEVENT
BEGIN:VEVENT
DTSTART;TZID=Europe/London:20260317T100000
DTEND;TZID=Europe/London:20260317T160000
DTSTAMP:20260425T170218
CREATED:20260223T140801Z
LAST-MODIFIED:20260311T111658Z
UID:10846-1773741600-1773763200@innovatecambridge.com
SUMMARY:Private Meeting
DESCRIPTION:Kindly note due to this meeting taking place in the boardroom\, it will be unavailable for member use from 10am-4pm.
URL:https://innovatecambridge.com/calendar-event/private-event-22/
LOCATION:Boardroom\, The Glasshouse\, Innovate Cambridge\, Botanic House\, 1st floor\, Cambridge\, CB21PH\, United Kingdom
CATEGORIES:Closed Meeting
ATTACH;FMTTYPE=image/png:https://innovatecambridge.com/wp-content/uploads/2025/09/7-1.png
END:VEVENT
BEGIN:VEVENT
DTSTART;TZID=Europe/London:20260318T090000
DTEND;TZID=Europe/London:20260318T100000
DTSTAMP:20260425T170218
CREATED:20260223T142721Z
LAST-MODIFIED:20260223T142721Z
UID:10853-1773824400-1773828000@innovatecambridge.com
SUMMARY:Cambridge Neuroworks
DESCRIPTION:Kindly note due to this meeting taking place in the boardroom\, it will be unavailable for member use from 9am-10am.
URL:https://innovatecambridge.com/calendar-event/cambridge-neuroworks-24/
LOCATION:Boardroom\, The Glasshouse\, Innovate Cambridge\, Botanic House\, 1st floor\, Cambridge\, CB21PH\, United Kingdom
CATEGORIES:Closed Meeting
ATTACH;FMTTYPE=image/png:https://innovatecambridge.com/wp-content/uploads/2025/09/7.png
END:VEVENT
BEGIN:VEVENT
DTSTART;TZID=Europe/London:20260318T130000
DTEND;TZID=Europe/London:20260318T153000
DTSTAMP:20260425T170218
CREATED:20260223T142923Z
LAST-MODIFIED:20260223T142923Z
UID:10855-1773838800-1773847800@innovatecambridge.com
SUMMARY:Private Meeting
DESCRIPTION:Kindly note due to this meeting taking place in the boardroom\, it will be unavailable for member use from 1pm-3:30pm.
URL:https://innovatecambridge.com/calendar-event/private-meeting-72/
LOCATION:Boardroom\, The Glasshouse\, Innovate Cambridge\, Botanic House\, 1st floor\, Cambridge\, CB21PH\, United Kingdom
CATEGORIES:Closed Meeting
ATTACH;FMTTYPE=image/png:https://innovatecambridge.com/wp-content/uploads/2025/09/7-1.png
END:VEVENT
BEGIN:VEVENT
DTSTART;TZID=Europe/London:20260319T130000
DTEND;TZID=Europe/London:20260319T150000
DTSTAMP:20260425T170218
CREATED:20260223T143106Z
LAST-MODIFIED:20260223T143106Z
UID:10857-1773925200-1773932400@innovatecambridge.com
SUMMARY:Private Meeting
DESCRIPTION:Kindly note due to this meeting taking place in the boardroom\, it will be unavailable for member use from 1pm-3pm.
URL:https://innovatecambridge.com/calendar-event/private-meeting-73/
LOCATION:Boardroom\, The Glasshouse\, Innovate Cambridge\, Botanic House\, 1st floor\, Cambridge\, CB21PH\, United Kingdom
CATEGORIES:Closed Meeting
ATTACH;FMTTYPE=image/png:https://innovatecambridge.com/wp-content/uploads/2025/09/7.png
END:VEVENT
BEGIN:VEVENT
DTSTART;TZID=Europe/London:20260324T130000
DTEND;TZID=Europe/London:20260324T160000
DTSTAMP:20260425T170218
CREATED:20260223T143910Z
LAST-MODIFIED:20260223T145454Z
UID:10861-1774357200-1774368000@innovatecambridge.com
SUMMARY:Private Meeting
DESCRIPTION:Kindly note due to this meeting taking place in the boardroom\, it will be unavailable for member use from 1pm-4pm.
URL:https://innovatecambridge.com/calendar-event/private-meeting-74/
LOCATION:Boardroom\, The Glasshouse\, Innovate Cambridge\, Botanic House\, 1st floor\, Cambridge\, CB21PH\, United Kingdom
CATEGORIES:Closed Meeting
ATTACH;FMTTYPE=image/png:https://innovatecambridge.com/wp-content/uploads/2025/09/7-1.png
END:VEVENT
BEGIN:VEVENT
DTSTART;TZID=Europe/London:20260325T090000
DTEND;TZID=Europe/London:20260325T100000
DTSTAMP:20260425T170218
CREATED:20260223T145926Z
LAST-MODIFIED:20260223T150130Z
UID:10866-1774429200-1774432800@innovatecambridge.com
SUMMARY:Cambridge Neuroworks
DESCRIPTION:Kindly note due to this meeting taking place in the boardroom\, it will be unavailable for member use from 9am-10am.
URL:https://innovatecambridge.com/calendar-event/cambridge-neuroworks-25/
LOCATION:Boardroom\, The Glasshouse\, Innovate Cambridge\, Botanic House\, 1st floor\, Cambridge\, CB21PH\, United Kingdom
CATEGORIES:Closed Meeting
ATTACH;FMTTYPE=image/png:https://innovatecambridge.com/wp-content/uploads/2025/09/7-1.png
END:VEVENT
BEGIN:VEVENT
DTSTART;TZID=Europe/London:20260326T080000
DTEND;TZID=Europe/London:20260326T110000
DTSTAMP:20260425T170218
CREATED:20260223T155302Z
LAST-MODIFIED:20260223T155302Z
UID:10875-1774512000-1774522800@innovatecambridge.com
SUMMARY:Private Meeting
DESCRIPTION:Kindly note due to this meeting taking place in the boardroom\, it will be unavailable for member use from 8am-11am.
URL:https://innovatecambridge.com/calendar-event/private-meeting-75/
LOCATION:Boardroom\, The Glasshouse\, Innovate Cambridge\, Botanic House\, 1st floor\, Cambridge\, CB21PH\, United Kingdom
CATEGORIES:Closed Meeting
ATTACH;FMTTYPE=image/png:https://innovatecambridge.com/wp-content/uploads/2025/09/7-1.png
END:VEVENT
BEGIN:VEVENT
DTSTART;TZID=Europe/London:20260331T143000
DTEND;TZID=Europe/London:20260331T153000
DTSTAMP:20260425T170218
CREATED:20260223T160940Z
LAST-MODIFIED:20260223T161005Z
UID:10883-1774967400-1774971000@innovatecambridge.com
SUMMARY:Private Meeting
DESCRIPTION:Kindly note due to this meeting taking place in the boardroom\, it will be unavailable for member use from 2:30pm-3:30pm.
URL:https://innovatecambridge.com/calendar-event/private-meeting-76/
LOCATION:Boardroom\, The Glasshouse\, Innovate Cambridge\, Botanic House\, 1st floor\, Cambridge\, CB21PH\, United Kingdom
CATEGORIES:Closed Meeting
ATTACH;FMTTYPE=image/png:https://innovatecambridge.com/wp-content/uploads/2025/09/7-1.png
END:VEVENT
BEGIN:VEVENT
DTSTART;TZID=Europe/London:20260401T090000
DTEND;TZID=Europe/London:20260401T100000
DTSTAMP:20260425T170218
CREATED:20260305T183224Z
LAST-MODIFIED:20260305T183224Z
UID:10903-1775034000-1775037600@innovatecambridge.com
SUMMARY:Cambridge Neuroworks
DESCRIPTION:Kindly note due to this meeting taking place in the boardroom\, it will be unavailable for member use from 9am-10am.
URL:https://innovatecambridge.com/calendar-event/cambridge-neuroworks-26/
LOCATION:Boardroom\, The Glasshouse\, Innovate Cambridge\, Botanic House\, 1st floor\, Cambridge\, CB21PH\, United Kingdom
CATEGORIES:Closed Meeting
ATTACH;FMTTYPE=image/png:https://innovatecambridge.com/wp-content/uploads/2025/09/7-1.png
END:VEVENT
BEGIN:VEVENT
DTSTART;TZID=Europe/London:20260408T090000
DTEND;TZID=Europe/London:20260408T100000
DTSTAMP:20260425T170218
CREATED:20260305T183516Z
LAST-MODIFIED:20260305T183516Z
UID:10908-1775638800-1775642400@innovatecambridge.com
SUMMARY:Cambridge Neuroworks
DESCRIPTION:Kindly note due to this meeting taking place in the boardroom\, it will be unavailable for member use from 9am-10am.
URL:https://innovatecambridge.com/calendar-event/cambridge-neuroworks-27/
LOCATION:Boardroom\, The Glasshouse\, Innovate Cambridge\, Botanic House\, 1st floor\, Cambridge\, CB21PH\, United Kingdom
CATEGORIES:Closed Meeting
ATTACH;FMTTYPE=image/png:https://innovatecambridge.com/wp-content/uploads/2025/09/7-1.png
END:VEVENT
BEGIN:VEVENT
DTSTART;TZID=Europe/London:20260409T120000
DTEND;TZID=Europe/London:20260409T140000
DTSTAMP:20260425T170218
CREATED:20260331T085323Z
LAST-MODIFIED:20260331T085421Z
UID:10996-1775736000-1775743200@innovatecambridge.com
SUMMARY:Private Meeting
DESCRIPTION:Kindly note the boardroom will be unavailable from 12pm – 2pm for member use.
URL:https://innovatecambridge.com/calendar-event/private-meeting-77/
LOCATION:Boardroom\, The Glasshouse\, Innovate Cambridge\, Botanic House\, 1st floor\, Cambridge\, CB21PH\, United Kingdom
CATEGORIES:Closed Meeting
ATTACH;FMTTYPE=image/png:https://innovatecambridge.com/wp-content/uploads/2025/09/7-1.png
END:VEVENT
BEGIN:VEVENT
DTSTART;TZID=Europe/London:20260415T090000
DTEND;TZID=Europe/London:20260415T100000
DTSTAMP:20260425T170218
CREATED:20260305T184519Z
LAST-MODIFIED:20260305T184519Z
UID:10919-1776243600-1776247200@innovatecambridge.com
SUMMARY:Cambridge Neuroworks
DESCRIPTION:Kindly note due to this meeting taking place in the boardroom\, it will be unavailable for member use from 9am-10am.
URL:https://innovatecambridge.com/calendar-event/cambridge-neuroworks-28/
LOCATION:Boardroom\, The Glasshouse\, Innovate Cambridge\, Botanic House\, 1st floor\, Cambridge\, CB21PH\, United Kingdom
CATEGORIES:Closed Meeting
ATTACH;FMTTYPE=image/png:https://innovatecambridge.com/wp-content/uploads/2025/09/7.png
END:VEVENT
BEGIN:VEVENT
DTSTART;TZID=Europe/London:20260416T110000
DTEND;TZID=Europe/London:20260416T130000
DTSTAMP:20260425T170218
CREATED:20260305T184722Z
LAST-MODIFIED:20260331T091956Z
UID:10921-1776337200-1776344400@innovatecambridge.com
SUMMARY:Private Meeting
DESCRIPTION:Kindly note due to this meeting taking place in the boardroom\, it will be unavailable for member use from 11am-1pm.
URL:https://innovatecambridge.com/calendar-event/private-meeting-80/
LOCATION:Boardroom\, The Glasshouse\, Innovate Cambridge\, Botanic House\, 1st floor\, Cambridge\, CB21PH\, United Kingdom
CATEGORIES:Closed Meeting
ATTACH;FMTTYPE=image/png:https://innovatecambridge.com/wp-content/uploads/2025/09/7-1.png
END:VEVENT
BEGIN:VEVENT
DTSTART;TZID=Europe/London:20260416T140000
DTEND;TZID=Europe/London:20260416T153000
DTSTAMP:20260425T170218
CREATED:20260331T092054Z
LAST-MODIFIED:20260331T092102Z
UID:11001-1776348000-1776353400@innovatecambridge.com
SUMMARY:Private Meeting
DESCRIPTION:Kindly note due to this meeting taking place in the boardroom\, it will be unavailable for member use from 2pm-3.30pm.
URL:https://innovatecambridge.com/calendar-event/private-meeting-78/
LOCATION:Boardroom\, The Glasshouse\, Innovate Cambridge\, Botanic House\, 1st floor\, Cambridge\, CB21PH\, United Kingdom
CATEGORIES:Closed Meeting
ATTACH;FMTTYPE=image/png:https://innovatecambridge.com/wp-content/uploads/2025/09/7.png
END:VEVENT
BEGIN:VEVENT
DTSTART;TZID=Europe/London:20260417T140000
DTEND;TZID=Europe/London:20260417T170000
DTSTAMP:20260425T170218
CREATED:20260311T113110Z
LAST-MODIFIED:20260311T113110Z
UID:10929-1776434400-1776445200@innovatecambridge.com
SUMMARY:Private Meeting
DESCRIPTION:Kindly note due to this meeting taking place in the boardroom\, it will be unavailable for member use from 2pm-5pm.
URL:https://innovatecambridge.com/calendar-event/private-meeting-81/
LOCATION:Boardroom\, The Glasshouse\, Innovate Cambridge\, Botanic House\, 1st floor\, Cambridge\, CB21PH\, United Kingdom
CATEGORIES:Closed Meeting
ATTACH;FMTTYPE=image/png:https://innovatecambridge.com/wp-content/uploads/2025/09/7-1.png
END:VEVENT
BEGIN:VEVENT
DTSTART;TZID=Europe/London:20260417T173000
DTEND;TZID=Europe/London:20260417T190000
DTSTAMP:20260425T170218
CREATED:20260311T113242Z
LAST-MODIFIED:20260311T113328Z
UID:10931-1776447000-1776452400@innovatecambridge.com
SUMMARY:Private Meeting
DESCRIPTION:Kindly note due to this meeting taking place in the boardroom\, it will be unavailable for member use from 5:30pm-7pm.
URL:https://innovatecambridge.com/calendar-event/private-meeting-82/
LOCATION:Boardroom\, The Glasshouse\, Innovate Cambridge\, Botanic House\, 1st floor\, Cambridge\, CB21PH\, United Kingdom
CATEGORIES:Closed Meeting
ATTACH;FMTTYPE=image/png:https://innovatecambridge.com/wp-content/uploads/2025/09/7-1.png
END:VEVENT
BEGIN:VEVENT
DTSTART;TZID=Europe/London:20260422T090000
DTEND;TZID=Europe/London:20260422T100000
DTSTAMP:20260425T170218
CREATED:20260311T113941Z
LAST-MODIFIED:20260311T113941Z
UID:10937-1776848400-1776852000@innovatecambridge.com
SUMMARY:Cambridge Neuroworks
DESCRIPTION:Kindly note due to this meeting taking place in the boardroom\, it will be unavailable for member use from 9am-10am.
URL:https://innovatecambridge.com/calendar-event/cambridge-neuroworks-29/
LOCATION:Boardroom\, The Glasshouse\, Innovate Cambridge\, Botanic House\, 1st floor\, Cambridge\, CB21PH\, United Kingdom
CATEGORIES:Closed Meeting
ATTACH;FMTTYPE=image/png:https://innovatecambridge.com/wp-content/uploads/2025/09/7-1.png
END:VEVENT
BEGIN:VEVENT
DTSTART;TZID=Europe/London:20260422T100000
DTEND;TZID=Europe/London:20260422T110000
DTSTAMP:20260425T170218
CREATED:20260331T092721Z
LAST-MODIFIED:20260331T093542Z
UID:11003-1776852000-1776855600@innovatecambridge.com
SUMMARY:Private Meeting
DESCRIPTION:Kindly note due to this meeting taking place in the boardroom\, it will be unavailable for member use from 10am-11am.
URL:https://innovatecambridge.com/calendar-event/private-meeting-79/
LOCATION:Boardroom\, The Glasshouse\, Innovate Cambridge\, Botanic House\, 1st floor\, Cambridge\, CB21PH\, United Kingdom
CATEGORIES:Closed Meeting
ATTACH;FMTTYPE=image/png:https://innovatecambridge.com/wp-content/uploads/2025/09/7.png
END:VEVENT
BEGIN:VEVENT
DTSTART;TZID=Europe/London:20260423T100000
DTEND;TZID=Europe/London:20260423T120000
DTSTAMP:20260425T170218
CREATED:20260311T115955Z
LAST-MODIFIED:20260311T115955Z
UID:10939-1776938400-1776945600@innovatecambridge.com
SUMMARY:Cambridge Angels Office Hours
DESCRIPTION:Kindly note\, due to this meeting taking place in The Hub\, it will be unavailable for member use from 10am-2pm. \nCambridge Angels host ‘office hours’ which allows entrepreneurs to get free one-on-one\, no obligation\, feedback from an experienced investor. Find out more about the office hours criteria and apply here. 
URL:https://innovatecambridge.com/calendar-event/cambridge-angels-office-hours-4/
LOCATION:The Hub\, The Glasshouse\, Cambridge\, CB2 1PH\, United Kingdom
CATEGORIES:Closed Meeting
ATTACH;FMTTYPE=image/png:https://innovatecambridge.com/wp-content/uploads/2025/09/7-1.png
END:VEVENT
BEGIN:VEVENT
DTSTART;TZID=Europe/London:20260423T110000
DTEND;TZID=Europe/London:20260423T130000
DTSTAMP:20260425T170218
CREATED:20260331T093659Z
LAST-MODIFIED:20260331T093659Z
UID:11005-1776942000-1776949200@innovatecambridge.com
SUMMARY:Private Meeting
DESCRIPTION:Kindly note due to this meeting taking place in the boardroom\, it will be unavailable for member use from 11am-1pm.
URL:https://innovatecambridge.com/calendar-event/private-meeting-84/
LOCATION:Boardroom\, The Glasshouse\, Innovate Cambridge\, Botanic House\, 1st floor\, Cambridge\, CB21PH\, United Kingdom
CATEGORIES:Closed Meeting
ATTACH;FMTTYPE=image/png:https://innovatecambridge.com/wp-content/uploads/2025/09/7.png
END:VEVENT
BEGIN:VEVENT
DTSTART;TZID=Europe/London:20260428T160000
DTEND;TZID=Europe/London:20260428T170000
DTSTAMP:20260425T170218
CREATED:20260331T102924Z
LAST-MODIFIED:20260331T102924Z
UID:11015-1777392000-1777395600@innovatecambridge.com
SUMMARY:Private Meeting
DESCRIPTION:Kindly note that due to this meeting taking place in the boardroom\, it will not be available for member use from 4pm – 5pm.
URL:https://innovatecambridge.com/calendar-event/private-meeting-85/
LOCATION:Boardroom\, The Glasshouse\, Innovate Cambridge\, Botanic House\, 1st floor\, Cambridge\, CB21PH\, United Kingdom
CATEGORIES:Closed Meeting
ATTACH;FMTTYPE=image/png:https://innovatecambridge.com/wp-content/uploads/2025/09/7-1.png
END:VEVENT
BEGIN:VEVENT
DTSTART;TZID=Europe/London:20260429T090000
DTEND;TZID=Europe/London:20260429T100000
DTSTAMP:20260425T170218
CREATED:20260311T123827Z
LAST-MODIFIED:20260311T123827Z
UID:10946-1777453200-1777456800@innovatecambridge.com
SUMMARY:Cambridge Neuroworks
DESCRIPTION:Kindly note due to this meeting taking place in the boardroom\, it will be unavailable for member use from 9am-10am.
URL:https://innovatecambridge.com/calendar-event/cambridge-neuroworks-30/
LOCATION:Boardroom\, The Glasshouse\, Innovate Cambridge\, Botanic House\, 1st floor\, Cambridge\, CB21PH\, United Kingdom
CATEGORIES:Closed Meeting
ATTACH;FMTTYPE=image/png:https://innovatecambridge.com/wp-content/uploads/2025/09/7.png
END:VEVENT
BEGIN:VEVENT
DTSTART;TZID=Europe/London:20260429T100000
DTEND;TZID=Europe/London:20260429T110000
DTSTAMP:20260425T170218
CREATED:20260331T103113Z
LAST-MODIFIED:20260331T103113Z
UID:11017-1777456800-1777460400@innovatecambridge.com
SUMMARY:Private Meeting
DESCRIPTION:Kindly note that due to this meeting taking place in the boardroom\, it will not be available for member use from 10am – 11am.
URL:https://innovatecambridge.com/calendar-event/private-meeting-86/
LOCATION:Boardroom\, The Glasshouse\, Innovate Cambridge\, Botanic House\, 1st floor\, Cambridge\, CB21PH\, United Kingdom
CATEGORIES:Closed Meeting
ATTACH;FMTTYPE=image/png:https://innovatecambridge.com/wp-content/uploads/2025/09/7.png
END:VEVENT
BEGIN:VEVENT
DTSTART;TZID=Europe/London:20260430T080000
DTEND;TZID=Europe/London:20260430T170000
DTSTAMP:20260425T170218
CREATED:20260331T103251Z
LAST-MODIFIED:20260331T103251Z
UID:11019-1777536000-1777568400@innovatecambridge.com
SUMMARY:Private Meeting
DESCRIPTION:Kindly note that due to this meeting taking place in the boardroom\, it will not be available for member use from 11.30am – 1pm.
URL:https://innovatecambridge.com/calendar-event/private-meeting-87/
LOCATION:Boardroom\, The Glasshouse\, Innovate Cambridge\, Botanic House\, 1st floor\, Cambridge\, CB21PH\, United Kingdom
CATEGORIES:Closed Meeting
ATTACH;FMTTYPE=image/png:https://innovatecambridge.com/wp-content/uploads/2025/09/7.png
END:VEVENT
BEGIN:VEVENT
DTSTART;TZID=Europe/London:20260430T140000
DTEND;TZID=Europe/London:20260430T160000
DTSTAMP:20260425T170218
CREATED:20260311T124304Z
LAST-MODIFIED:20260311T124304Z
UID:10950-1777557600-1777564800@innovatecambridge.com
SUMMARY:Private Meeting
DESCRIPTION:Kindly note due to this meeting taking place in the boardroom\, there will be limited availability in the boardroom from 2pm – 4pm onwards.
URL:https://innovatecambridge.com/calendar-event/private-meeting-83/
LOCATION:Boardroom\, The Glasshouse\, Innovate Cambridge\, Botanic House\, 1st floor\, Cambridge\, CB21PH\, United Kingdom
CATEGORIES:Closed Meeting
ATTACH;FMTTYPE=image/png:https://innovatecambridge.com/wp-content/uploads/2025/09/7.png
END:VEVENT
BEGIN:VEVENT
DTSTART;TZID=Europe/London:20260506T090000
DTEND;TZID=Europe/London:20260506T100000
DTSTAMP:20260425T170218
CREATED:20260415T142710Z
LAST-MODIFIED:20260415T142710Z
UID:11054-1778058000-1778061600@innovatecambridge.com
SUMMARY:Cambridge Neuroworks
DESCRIPTION:Kindly note due to this meeting taking place in the boardroom\, it will be unavailable for member use from 9am-10am.
URL:https://innovatecambridge.com/calendar-event/cambridge-neuroworks-31/
LOCATION:Boardroom\, The Glasshouse\, Innovate Cambridge\, Botanic House\, 1st floor\, Cambridge\, CB21PH\, United Kingdom
CATEGORIES:Closed Meeting
ATTACH;FMTTYPE=image/png:https://innovatecambridge.com/wp-content/uploads/2025/09/7-1.png
END:VEVENT
END:VCALENDAR