BEGIN:VCALENDAR
VERSION:2.0
PRODID:-//Innovate Cambridge - ECPv6.15.11//NONSGML v1.0//EN
CALSCALE:GREGORIAN
METHOD:PUBLISH
X-WR-CALNAME:Innovate Cambridge
X-ORIGINAL-URL:https://innovatecambridge.com
X-WR-CALDESC:Events for Innovate Cambridge
REFRESH-INTERVAL;VALUE=DURATION:PT1H
X-Robots-Tag:noindex
X-PUBLISHED-TTL:PT1H
BEGIN:VTIMEZONE
TZID:Europe/London
BEGIN:DAYLIGHT
TZOFFSETFROM:+0000
TZOFFSETTO:+0100
TZNAME:BST
DTSTART:20240331T010000
END:DAYLIGHT
BEGIN:STANDARD
TZOFFSETFROM:+0100
TZOFFSETTO:+0000
TZNAME:GMT
DTSTART:20241027T010000
END:STANDARD
BEGIN:DAYLIGHT
TZOFFSETFROM:+0000
TZOFFSETTO:+0100
TZNAME:BST
DTSTART:20250330T010000
END:DAYLIGHT
BEGIN:STANDARD
TZOFFSETFROM:+0100
TZOFFSETTO:+0000
TZNAME:GMT
DTSTART:20251026T010000
END:STANDARD
BEGIN:DAYLIGHT
TZOFFSETFROM:+0000
TZOFFSETTO:+0100
TZNAME:BST
DTSTART:20260329T010000
END:DAYLIGHT
BEGIN:STANDARD
TZOFFSETFROM:+0100
TZOFFSETTO:+0000
TZNAME:GMT
DTSTART:20261025T010000
END:STANDARD
BEGIN:DAYLIGHT
TZOFFSETFROM:+0000
TZOFFSETTO:+0100
TZNAME:BST
DTSTART:20270328T010000
END:DAYLIGHT
BEGIN:STANDARD
TZOFFSETFROM:+0100
TZOFFSETTO:+0000
TZNAME:GMT
DTSTART:20271031T010000
END:STANDARD
END:VTIMEZONE
BEGIN:VEVENT
DTSTART;TZID=Europe/London:20251215T113000
DTEND;TZID=Europe/London:20251215T133000
DTSTAMP:20260425T143221
CREATED:20251120T100741Z
LAST-MODIFIED:20251212T163836Z
UID:10599-1765798200-1765805400@innovatecambridge.com
SUMMARY:Private Meeting
DESCRIPTION:Kindly note that due to this meeting taking place in the boardroom\, it will be unavailable for member use from 11:30pm – 1:30pm.
URL:https://innovatecambridge.com/calendar-event/private-event-13/
LOCATION:Boardroom\, The Glasshouse\, Innovate Cambridge\, Botanic House\, 1st floor\, Cambridge\, CB21PH\, United Kingdom
CATEGORIES:Closed Meeting
ATTACH;FMTTYPE=image/png:https://innovatecambridge.com/wp-content/uploads/2025/09/7.png
END:VEVENT
BEGIN:VEVENT
DTSTART;TZID=Europe/London:20251217T090000
DTEND;TZID=Europe/London:20251217T100000
DTSTAMP:20260425T143221
CREATED:20251113T102315Z
LAST-MODIFIED:20251114T115304Z
UID:10545-1765962000-1765965600@innovatecambridge.com
SUMMARY:Cambridge Neuroworks
DESCRIPTION:Kindly note\, the boardroom will be unavailable for member use from 9am – 10am.
URL:https://innovatecambridge.com/calendar-event/cambridge-neuroworks-15/
LOCATION:Boardroom\, The Glasshouse\, Innovate Cambridge\, Botanic House\, 1st floor\, Cambridge\, CB21PH\, United Kingdom
CATEGORIES:Closed Meeting
ATTACH;FMTTYPE=image/png:https://innovatecambridge.com/wp-content/uploads/2025/09/7-1.png
END:VEVENT
BEGIN:VEVENT
DTSTART;TZID=Europe/London:20251217T100000
DTEND;TZID=Europe/London:20251217T170000
DTSTAMP:20260425T143221
CREATED:20251113T102436Z
LAST-MODIFIED:20251114T115624Z
UID:10547-1765965600-1765990800@innovatecambridge.com
SUMMARY:Private Meeting
DESCRIPTION:Kindly note the boardroom is unavailable for member use from 10am – 5pm.
URL:https://innovatecambridge.com/calendar-event/private-meeting-35/
LOCATION:Boardroom\, The Glasshouse\, Innovate Cambridge\, Botanic House\, 1st floor\, Cambridge\, CB21PH\, United Kingdom
CATEGORIES:Closed Meeting
ATTACH;FMTTYPE=image/png:https://innovatecambridge.com/wp-content/uploads/2025/09/7-1.png
END:VEVENT
BEGIN:VEVENT
DTSTART;TZID=Europe/London:20260107T083000
DTEND;TZID=Europe/London:20260107T123000
DTSTAMP:20260425T143221
CREATED:20251212T162733Z
LAST-MODIFIED:20251212T162733Z
UID:10616-1767774600-1767789000@innovatecambridge.com
SUMMARY:Private Meeting
DESCRIPTION:Kindly note that due to this meeting taking place in the boardroom\, it will be unavailable for member use from 8:30am – 12:30pm.
URL:https://innovatecambridge.com/calendar-event/private-meeting-46/
LOCATION:Boardroom\, The Glasshouse\, Innovate Cambridge\, Botanic House\, 1st floor\, Cambridge\, CB21PH\, United Kingdom
CATEGORIES:Closed Meeting
ATTACH;FMTTYPE=image/png:https://innovatecambridge.com/wp-content/uploads/2025/09/7-1.png
END:VEVENT
BEGIN:VEVENT
DTSTART;TZID=Europe/London:20260108T100000
DTEND;TZID=Europe/London:20260108T110000
DTSTAMP:20260425T143221
CREATED:20251212T162846Z
LAST-MODIFIED:20251212T162846Z
UID:10619-1767866400-1767870000@innovatecambridge.com
SUMMARY:Private Meeting
DESCRIPTION:Kindly note that due to this meeting taking place in the boardroom\, it will be unavailable for member use from 10am – 11am.
URL:https://innovatecambridge.com/calendar-event/private-meeting-47/
LOCATION:Boardroom\, The Glasshouse\, Innovate Cambridge\, Botanic House\, 1st floor\, Cambridge\, CB21PH\, United Kingdom
CATEGORIES:Closed Meeting
ATTACH;FMTTYPE=image/png:https://innovatecambridge.com/wp-content/uploads/2025/09/7-1.png
END:VEVENT
BEGIN:VEVENT
DTSTART;TZID=Europe/London:20260114T090000
DTEND;TZID=Europe/London:20260114T100000
DTSTAMP:20260425T143221
CREATED:20251212T163421Z
LAST-MODIFIED:20251212T163421Z
UID:10627-1768381200-1768384800@innovatecambridge.com
SUMMARY:Cambridge Neuroworks
DESCRIPTION:Kindly note due to this meeting taking place in the boardroom\, it will be unavailable for member use from 9am-10am.
URL:https://innovatecambridge.com/calendar-event/cambridge-neuroworks-16/
LOCATION:Boardroom\, The Glasshouse\, Innovate Cambridge\, Botanic House\, 1st floor\, Cambridge\, CB21PH\, United Kingdom
CATEGORIES:Closed Meeting
ATTACH;FMTTYPE=image/png:https://innovatecambridge.com/wp-content/uploads/2025/09/7-1.png
END:VEVENT
BEGIN:VEVENT
DTSTART;TZID=Europe/London:20260115T090000
DTEND;TZID=Europe/London:20260115T100000
DTSTAMP:20260425T143221
CREATED:20260115T122551Z
LAST-MODIFIED:20260115T122551Z
UID:10728-1768467600-1768471200@innovatecambridge.com
SUMMARY:Cambridge Neuroworks Founders Fuel Sessions
DESCRIPTION:Kindly note\, due to this meeting taking place in the boardroom\, the boardroom will have limited availability from 9am – 10am.
URL:https://innovatecambridge.com/calendar-event/cambridge-neuroworks-founders-fuel-sessions/
LOCATION:Boardroom\, The Glasshouse\, Innovate Cambridge\, Botanic House\, 1st floor\, Cambridge\, CB21PH\, United Kingdom
CATEGORIES:Closed Meeting
ATTACH;FMTTYPE=image/png:https://innovatecambridge.com/wp-content/uploads/2025/09/7-1.png
END:VEVENT
BEGIN:VEVENT
DTSTART;TZID=Europe/London:20260115T100000
DTEND;TZID=Europe/London:20260115T120000
DTSTAMP:20260425T143221
CREATED:20251212T163650Z
LAST-MODIFIED:20251212T163650Z
UID:10629-1768471200-1768478400@innovatecambridge.com
SUMMARY:Cambridge Neuroworks Fellows: Meet a Neurotech Founder
DESCRIPTION:Kindly note\, due to this meeting taking place in the boardroom\, the boardroom will be unavailable for member use from 10am-12pm.
URL:https://innovatecambridge.com/calendar-event/cambridge-neuroworks-fellows-meet-a-neurotech-founder/
LOCATION:Boardroom\, The Glasshouse\, Innovate Cambridge\, Botanic House\, 1st floor\, Cambridge\, CB21PH\, United Kingdom
CATEGORIES:Closed Meeting
ATTACH;FMTTYPE=image/png:https://innovatecambridge.com/wp-content/uploads/2025/09/7.png
END:VEVENT
BEGIN:VEVENT
DTSTART;TZID=Europe/London:20260115T130000
DTEND;TZID=Europe/London:20260115T150000
DTSTAMP:20260425T143221
CREATED:20260112T093219Z
LAST-MODIFIED:20260112T093219Z
UID:10688-1768482000-1768489200@innovatecambridge.com
SUMMARY:Private Meeting
DESCRIPTION:Kindly note\, due to this meeting taking place in the boardroom\, the boardroom will be unavailable for member use from 1pm-3pm.
URL:https://innovatecambridge.com/calendar-event/private-meeting-52/
LOCATION:Boardroom\, The Glasshouse\, Innovate Cambridge\, Botanic House\, 1st floor\, Cambridge\, CB21PH\, United Kingdom
CATEGORIES:Closed Meeting
ATTACH;FMTTYPE=image/png:https://innovatecambridge.com/wp-content/uploads/2025/09/7-1.png
END:VEVENT
BEGIN:VEVENT
DTSTART;TZID=Europe/London:20260116T113000
DTEND;TZID=Europe/London:20260116T123000
DTSTAMP:20260425T143221
CREATED:20260112T093436Z
LAST-MODIFIED:20260112T113740Z
UID:10690-1768563000-1768566600@innovatecambridge.com
SUMMARY:Private Meeting
DESCRIPTION:Kindly note\, due to this meeting taking place in the boardroom\, the boardroom will be unavailable for member use from 11:30am-12:30pm.
URL:https://innovatecambridge.com/calendar-event/private-meeting-53/
LOCATION:Boardroom\, The Glasshouse\, Innovate Cambridge\, Botanic House\, 1st floor\, Cambridge\, CB21PH\, United Kingdom
CATEGORIES:Closed Meeting
ATTACH;FMTTYPE=image/png:https://innovatecambridge.com/wp-content/uploads/2025/09/7-1.png
END:VEVENT
BEGIN:VEVENT
DTSTART;TZID=Europe/London:20260119T100000
DTEND;TZID=Europe/London:20260119T170000
DTSTAMP:20260425T143221
CREATED:20251212T170601Z
LAST-MODIFIED:20251212T170601Z
UID:10647-1768816800-1768842000@innovatecambridge.com
SUMMARY:Private Meeting
DESCRIPTION:Kindly note\, due to this event taking place in the boardroom\, it will be unavailable for member use from 10am-5pm.
URL:https://innovatecambridge.com/calendar-event/private-meeting-48/
LOCATION:Boardroom\, The Glasshouse\, Innovate Cambridge\, Botanic House\, 1st floor\, Cambridge\, CB21PH\, United Kingdom
CATEGORIES:Closed Meeting
ATTACH;FMTTYPE=image/png:https://innovatecambridge.com/wp-content/uploads/2025/09/7.png
END:VEVENT
BEGIN:VEVENT
DTSTART;TZID=Europe/London:20260120T100000
DTEND;TZID=Europe/London:20260120T150000
DTSTAMP:20260425T143221
CREATED:20260112T093623Z
LAST-MODIFIED:20260112T094420Z
UID:10692-1768903200-1768921200@innovatecambridge.com
SUMMARY:Private Meeting
DESCRIPTION:Kindly note\, due to this meeting taking place in the boardroom\, the boardroom will be unavailable for member use from 10am-3pm.
URL:https://innovatecambridge.com/calendar-event/private-meeting-54/
LOCATION:Boardroom\, The Glasshouse\, Innovate Cambridge\, Botanic House\, 1st floor\, Cambridge\, CB21PH\, United Kingdom
CATEGORIES:Closed Meeting
ATTACH;FMTTYPE=image/png:https://innovatecambridge.com/wp-content/uploads/2025/09/7-1.png
END:VEVENT
BEGIN:VEVENT
DTSTART;TZID=Europe/London:20260121T090000
DTEND;TZID=Europe/London:20260121T100000
DTSTAMP:20260425T143221
CREATED:20251212T170926Z
LAST-MODIFIED:20251212T170926Z
UID:10653-1768986000-1768989600@innovatecambridge.com
SUMMARY:Cambridge Neuroworks
DESCRIPTION:Kindly note\, due to this event taking place in the boardroom\, it will be unavailable for members from 9am-10am.
URL:https://innovatecambridge.com/calendar-event/cambridge-neuroworks-17/
LOCATION:Boardroom\, The Glasshouse\, Innovate Cambridge\, Botanic House\, 1st floor\, Cambridge\, CB21PH\, United Kingdom
CATEGORIES:Closed Meeting
ATTACH;FMTTYPE=image/png:https://innovatecambridge.com/wp-content/uploads/2025/09/7-1.png
END:VEVENT
BEGIN:VEVENT
DTSTART;TZID=Europe/London:20260121T100000
DTEND;TZID=Europe/London:20260121T110000
DTSTAMP:20260425T143221
CREATED:20251212T171229Z
LAST-MODIFIED:20251212T171229Z
UID:10655-1768989600-1768993200@innovatecambridge.com
SUMMARY:Private Meeting
DESCRIPTION:Kindly note\, due to this event taking place in the boardroom\, it will be unavailable for members from 10am-11am.
URL:https://innovatecambridge.com/calendar-event/private-meeting-49/
LOCATION:Boardroom\, The Glasshouse\, Innovate Cambridge\, Botanic House\, 1st floor\, Cambridge\, CB21PH\, United Kingdom
CATEGORIES:Closed Meeting
ATTACH;FMTTYPE=image/png:https://innovatecambridge.com/wp-content/uploads/2025/09/7-1.png
END:VEVENT
BEGIN:VEVENT
DTSTART;TZID=Europe/London:20260122T130000
DTEND;TZID=Europe/London:20260122T150000
DTSTAMP:20260425T143221
CREATED:20251212T171758Z
LAST-MODIFIED:20251212T171758Z
UID:10662-1769086800-1769094000@innovatecambridge.com
SUMMARY:Private Meeting
DESCRIPTION:Kindly note\, due to this meeting taking place in boardroom\, it will be unavailable for members from 1pm-3pm.
URL:https://innovatecambridge.com/calendar-event/private-meeting-50/
LOCATION:Boardroom\, The Glasshouse\, Innovate Cambridge\, Botanic House\, 1st floor\, Cambridge\, CB21PH\, United Kingdom
CATEGORIES:Closed Meeting
ATTACH;FMTTYPE=image/png:https://innovatecambridge.com/wp-content/uploads/2025/09/7-1.png
END:VEVENT
BEGIN:VEVENT
DTSTART;TZID=Europe/London:20260126T130000
DTEND;TZID=Europe/London:20260126T170000
DTSTAMP:20260425T143221
CREATED:20251212T172113Z
LAST-MODIFIED:20251212T172113Z
UID:10665-1769432400-1769446800@innovatecambridge.com
SUMMARY:Private Meeting
DESCRIPTION:Kindly note due to this meeting taking place in the boardroom\, it will be unavailable for member use from 1pm-5pm.
URL:https://innovatecambridge.com/calendar-event/private-meeting-51/
LOCATION:Boardroom\, The Glasshouse\, Innovate Cambridge\, Botanic House\, 1st floor\, Cambridge\, CB21PH\, United Kingdom
CATEGORIES:Closed Meeting
ATTACH;FMTTYPE=image/png:https://innovatecambridge.com/wp-content/uploads/2025/09/7-1.png
END:VEVENT
BEGIN:VEVENT
DTSTART;TZID=Europe/London:20260128T090000
DTEND;TZID=Europe/London:20260128T100000
DTSTAMP:20260425T143221
CREATED:20251212T173238Z
LAST-MODIFIED:20251212T173238Z
UID:10673-1769590800-1769594400@innovatecambridge.com
SUMMARY:Cambridge Neuroworks
DESCRIPTION:Kindly note\, due to this meeting taking place in the boardroom\, it will be unavailable for member use from 9am-10am.
URL:https://innovatecambridge.com/calendar-event/cambridge-neuroworks-18/
LOCATION:Boardroom\, The Glasshouse\, Innovate Cambridge\, Botanic House\, 1st floor\, Cambridge\, CB21PH\, United Kingdom
CATEGORIES:Closed Meeting
ATTACH;FMTTYPE=image/png:https://innovatecambridge.com/wp-content/uploads/2025/09/7-1.png
END:VEVENT
BEGIN:VEVENT
DTSTART;TZID=Europe/London:20260129T110000
DTEND;TZID=Europe/London:20260129T143000
DTSTAMP:20260425T143221
CREATED:20251212T174430Z
LAST-MODIFIED:20251212T174430Z
UID:10675-1769684400-1769697000@innovatecambridge.com
SUMMARY:CUHP Away Day
DESCRIPTION:Kindly note that due to this meeting taking place in the boardroom\, it will be unavailable from 11am-2:30pm.
URL:https://innovatecambridge.com/calendar-event/cuhp-away-day/
LOCATION:Boardroom\, The Glasshouse\, Innovate Cambridge\, Botanic House\, 1st floor\, Cambridge\, CB21PH\, United Kingdom
CATEGORIES:Closed Meeting
ATTACH;FMTTYPE=image/png:https://innovatecambridge.com/wp-content/uploads/2025/09/7.png
END:VEVENT
BEGIN:VEVENT
DTSTART;TZID=Europe/London:20260203T090000
DTEND;TZID=Europe/London:20260203T110000
DTSTAMP:20260425T143221
CREATED:20260114T103934Z
LAST-MODIFIED:20260114T103934Z
UID:10694-1770109200-1770116400@innovatecambridge.com
SUMMARY:Private Meeting
DESCRIPTION:Kindly note\, due to this meeting taking place in the boardroom\, the boardroom will be unavailable for member use from 9am-11am.
URL:https://innovatecambridge.com/calendar-event/private-meeting-55/
LOCATION:Boardroom\, The Glasshouse\, Innovate Cambridge\, Botanic House\, 1st floor\, Cambridge\, CB21PH\, United Kingdom
CATEGORIES:Closed Meeting
ATTACH;FMTTYPE=image/png:https://innovatecambridge.com/wp-content/uploads/2025/09/7-1.png
END:VEVENT
BEGIN:VEVENT
DTSTART;TZID=Europe/London:20260203T140000
DTEND;TZID=Europe/London:20260203T173000
DTSTAMP:20260425T143221
CREATED:20260114T104040Z
LAST-MODIFIED:20260114T104040Z
UID:10696-1770127200-1770139800@innovatecambridge.com
SUMMARY:Private Meeting
DESCRIPTION:Kindly note\, due to this meeting taking place in the boardroom\, the boardroom will be unavailable for member use from 2pm-5.30pm.
URL:https://innovatecambridge.com/calendar-event/private-meeting-56/
LOCATION:Boardroom\, The Glasshouse\, Innovate Cambridge\, Botanic House\, 1st floor\, Cambridge\, CB21PH\, United Kingdom
CATEGORIES:Closed Meeting
ATTACH;FMTTYPE=image/png:https://innovatecambridge.com/wp-content/uploads/2025/09/7-1.png
END:VEVENT
BEGIN:VEVENT
DTSTART;TZID=Europe/London:20260204T090000
DTEND;TZID=Europe/London:20260204T100000
DTSTAMP:20260425T143221
CREATED:20260114T104318Z
LAST-MODIFIED:20260114T123728Z
UID:10698-1770195600-1770199200@innovatecambridge.com
SUMMARY:Cambridge Neuroworks
DESCRIPTION:Kindly note due to this meeting taking place in the boardroom\, it will be unavailable for member use from 9am-10am.
URL:https://innovatecambridge.com/calendar-event/cambridge-neuroworks-19/
LOCATION:Boardroom\, The Glasshouse\, Innovate Cambridge\, Botanic House\, 1st floor\, Cambridge\, CB21PH\, United Kingdom
CATEGORIES:Closed Meeting
ATTACH;FMTTYPE=image/png:https://innovatecambridge.com/wp-content/uploads/2025/09/7-1.png
END:VEVENT
BEGIN:VEVENT
DTSTART;TZID=Europe/London:20260204T100000
DTEND;TZID=Europe/London:20260204T110000
DTSTAMP:20260425T143221
CREATED:20260114T123922Z
LAST-MODIFIED:20260114T123922Z
UID:10700-1770199200-1770202800@innovatecambridge.com
SUMMARY:Private Meeting
DESCRIPTION:Kindly note due to this meeting taking place in the boardroom\, it will be unavailable for member use from 10am-11am.
URL:https://innovatecambridge.com/calendar-event/private-meeting-57/
LOCATION:Boardroom\, The Glasshouse\, Innovate Cambridge\, Botanic House\, 1st floor\, Cambridge\, CB21PH\, United Kingdom
CATEGORIES:Closed Meeting
ATTACH;FMTTYPE=image/png:https://innovatecambridge.com/wp-content/uploads/2025/09/7-1.png
END:VEVENT
BEGIN:VEVENT
DTSTART;TZID=Europe/London:20260206T110000
DTEND;TZID=Europe/London:20260206T150000
DTSTAMP:20260425T143222
CREATED:20260126T140336Z
LAST-MODIFIED:20260126T140429Z
UID:10748-1770375600-1770390000@innovatecambridge.com
SUMMARY:Private Meeting
DESCRIPTION:Kindly note\, due to this meeting taking place in the boardroom\, the boardroom will be unavailable for member use from 11am-3pm.
URL:https://innovatecambridge.com/calendar-event/private-meeting-61/
LOCATION:Boardroom\, The Glasshouse\, Innovate Cambridge\, Botanic House\, 1st floor\, Cambridge\, CB21PH\, United Kingdom
CATEGORIES:Closed Meeting
ATTACH;FMTTYPE=image/png:https://innovatecambridge.com/wp-content/uploads/2025/09/7-1.png
END:VEVENT
BEGIN:VEVENT
DTSTART;TZID=Europe/London:20260211T090000
DTEND;TZID=Europe/London:20260211T100000
DTSTAMP:20260425T143222
CREATED:20260114T125145Z
LAST-MODIFIED:20260114T125145Z
UID:10709-1770800400-1770804000@innovatecambridge.com
SUMMARY:Cambridge Neuroworks
DESCRIPTION:Kindly note due to this meeting taking place in the boardroom\, it will be unavailable for member use from 9am-10am.
URL:https://innovatecambridge.com/calendar-event/cambridge-neuroworks-20/
LOCATION:Boardroom\, The Glasshouse\, Innovate Cambridge\, Botanic House\, 1st floor\, Cambridge\, CB21PH\, United Kingdom
CATEGORIES:Closed Meeting
ATTACH;FMTTYPE=image/png:https://innovatecambridge.com/wp-content/uploads/2025/09/7.png
END:VEVENT
BEGIN:VEVENT
DTSTART;TZID=Europe/London:20260218T090000
DTEND;TZID=Europe/London:20260218T100000
DTSTAMP:20260425T143222
CREATED:20260115T111042Z
LAST-MODIFIED:20260115T112132Z
UID:10718-1771405200-1771408800@innovatecambridge.com
SUMMARY:Cambridge Neuroworks
DESCRIPTION:Kindly note\, due to this meeting taking place in the boardroom\, the boardroom will be unavailable for member use from 9am-10am.
URL:https://innovatecambridge.com/calendar-event/cambridge-neuroworks-21/
LOCATION:Boardroom\, The Glasshouse\, Innovate Cambridge\, Botanic House\, 1st floor\, Cambridge\, CB21PH\, United Kingdom
CATEGORIES:Closed Meeting
ATTACH;FMTTYPE=image/png:https://innovatecambridge.com/wp-content/uploads/2025/09/7.png
END:VEVENT
BEGIN:VEVENT
DTSTART;TZID=Europe/London:20260219T130000
DTEND;TZID=Europe/London:20260219T150000
DTSTAMP:20260425T143222
CREATED:20260115T112329Z
LAST-MODIFIED:20260115T112329Z
UID:10720-1771506000-1771513200@innovatecambridge.com
SUMMARY:Private Meeting
DESCRIPTION:Kindly note\, due to this meeting taking place in the boardroom\, the boardroom will be unavailable for member use from 1pm-3pm.
URL:https://innovatecambridge.com/calendar-event/private-meeting-58/
LOCATION:Boardroom\, The Glasshouse\, Innovate Cambridge\, Botanic House\, 1st floor\, Cambridge\, CB21PH\, United Kingdom
CATEGORIES:Closed Meeting
ATTACH;FMTTYPE=image/png:https://innovatecambridge.com/wp-content/uploads/2025/09/7.png
END:VEVENT
BEGIN:VEVENT
DTSTART;TZID=Europe/London:20260223T130000
DTEND;TZID=Europe/London:20260223T173000
DTSTAMP:20260425T143222
CREATED:20260115T113852Z
LAST-MODIFIED:20260115T113852Z
UID:10722-1771851600-1771867800@innovatecambridge.com
SUMMARY:Private Meeting
DESCRIPTION:Kindly note\, due to this meeting taking place in the boardroom\, the boardroom will be unavailable for member use from 1pm-5:30pm.
URL:https://innovatecambridge.com/calendar-event/private-meeting-59/
LOCATION:Boardroom\, The Glasshouse\, Innovate Cambridge\, Botanic House\, 1st floor\, Cambridge\, CB21PH\, United Kingdom
CATEGORIES:Closed Meeting
ATTACH;FMTTYPE=image/png:https://innovatecambridge.com/wp-content/uploads/2025/09/7.png
END:VEVENT
BEGIN:VEVENT
DTSTART;TZID=Europe/London:20260224T090000
DTEND;TZID=Europe/London:20260224T140000
DTSTAMP:20260425T143222
CREATED:20260115T114011Z
LAST-MODIFIED:20260115T114245Z
UID:10724-1771923600-1771941600@innovatecambridge.com
SUMMARY:Private Meeting
DESCRIPTION:Kindly note\, due to this meeting taking place in the boardroom\, the boardroom will be unavailable for member use from 9am-2pm.
URL:https://innovatecambridge.com/calendar-event/private-meeting-60/
LOCATION:Boardroom\, The Glasshouse\, Innovate Cambridge\, Botanic House\, 1st floor\, Cambridge\, CB21PH\, United Kingdom
CATEGORIES:Closed Meeting
ATTACH;FMTTYPE=image/png:https://innovatecambridge.com/wp-content/uploads/2025/09/7.png
END:VEVENT
BEGIN:VEVENT
DTSTART;TZID=Europe/London:20260225T083000
DTEND;TZID=Europe/London:20260225T130000
DTSTAMP:20260425T143222
CREATED:20260115T114404Z
LAST-MODIFIED:20260115T114527Z
UID:10726-1772008200-1772024400@innovatecambridge.com
SUMMARY:Innovation Council Meeting
DESCRIPTION:Kindly note\, due to this meeting taking place in the boardroom\, the boardroom will be unavailable for member use from 8:30am-1pm.
URL:https://innovatecambridge.com/calendar-event/innovation-council-meeting/
LOCATION:Boardroom\, The Glasshouse\, Innovate Cambridge\, Botanic House\, 1st floor\, Cambridge\, CB21PH\, United Kingdom
CATEGORIES:Closed Meeting
ATTACH;FMTTYPE=image/png:https://innovatecambridge.com/wp-content/uploads/2025/09/7.png
END:VEVENT
BEGIN:VEVENT
DTSTART;TZID=Europe/London:20260226T090000
DTEND;TZID=Europe/London:20260226T100000
DTSTAMP:20260425T143222
CREATED:20260115T122807Z
LAST-MODIFIED:20260115T122807Z
UID:10738-1772096400-1772100000@innovatecambridge.com
SUMMARY:Cambridge Neuroworks Founder Fuel Sessions
DESCRIPTION:Kindly note due to this meeting taking place in the boardroom\, it will be unavailable for member use from 9am-10am.
URL:https://innovatecambridge.com/calendar-event/cambridge-neuroworks-founder-fuel-sessions/
LOCATION:Boardroom\, The Glasshouse\, Innovate Cambridge\, Botanic House\, 1st floor\, Cambridge\, CB21PH\, United Kingdom
CATEGORIES:Closed Meeting
ATTACH;FMTTYPE=image/png:https://innovatecambridge.com/wp-content/uploads/2025/09/7.png
END:VEVENT
END:VCALENDAR