BEGIN:VCALENDAR
VERSION:2.0
PRODID:-//Innovate Cambridge - ECPv6.15.11//NONSGML v1.0//EN
CALSCALE:GREGORIAN
METHOD:PUBLISH
X-WR-CALNAME:Innovate Cambridge
X-ORIGINAL-URL:https://innovatecambridge.com
X-WR-CALDESC:Events for Innovate Cambridge
REFRESH-INTERVAL;VALUE=DURATION:PT1H
X-Robots-Tag:noindex
X-PUBLISHED-TTL:PT1H
BEGIN:VTIMEZONE
TZID:Europe/London
BEGIN:DAYLIGHT
TZOFFSETFROM:+0000
TZOFFSETTO:+0100
TZNAME:BST
DTSTART:20240331T010000
END:DAYLIGHT
BEGIN:STANDARD
TZOFFSETFROM:+0100
TZOFFSETTO:+0000
TZNAME:GMT
DTSTART:20241027T010000
END:STANDARD
BEGIN:DAYLIGHT
TZOFFSETFROM:+0000
TZOFFSETTO:+0100
TZNAME:BST
DTSTART:20250330T010000
END:DAYLIGHT
BEGIN:STANDARD
TZOFFSETFROM:+0100
TZOFFSETTO:+0000
TZNAME:GMT
DTSTART:20251026T010000
END:STANDARD
BEGIN:DAYLIGHT
TZOFFSETFROM:+0000
TZOFFSETTO:+0100
TZNAME:BST
DTSTART:20260329T010000
END:DAYLIGHT
BEGIN:STANDARD
TZOFFSETFROM:+0100
TZOFFSETTO:+0000
TZNAME:GMT
DTSTART:20261025T010000
END:STANDARD
BEGIN:DAYLIGHT
TZOFFSETFROM:+0000
TZOFFSETTO:+0100
TZNAME:BST
DTSTART:20270328T010000
END:DAYLIGHT
BEGIN:STANDARD
TZOFFSETFROM:+0100
TZOFFSETTO:+0000
TZNAME:GMT
DTSTART:20271031T010000
END:STANDARD
END:VTIMEZONE
BEGIN:VEVENT
DTSTART;TZID=Europe/London:20251120T113000
DTEND;TZID=Europe/London:20251120T133000
DTSTAMP:20260425T121250
CREATED:20251119T123545Z
LAST-MODIFIED:20251119T123605Z
UID:10593-1763638200-1763645400@innovatecambridge.com
SUMMARY:Private Meeting
DESCRIPTION:Kindly note that due to this meeting taking place in the boardroom\, it will be unavailable for member use from 11:30am – 1:30pm.
URL:https://innovatecambridge.com/calendar-event/private-meeting-43/
LOCATION:Boardroom\, The Glasshouse\, Innovate Cambridge\, Botanic House\, 1st floor\, Cambridge\, CB21PH\, United Kingdom
CATEGORIES:Closed Meeting
ATTACH;FMTTYPE=image/png:https://innovatecambridge.com/wp-content/uploads/2025/09/7.png
END:VEVENT
BEGIN:VEVENT
DTSTART;TZID=Europe/London:20251120T140000
DTEND;TZID=Europe/London:20251120T153000
DTSTAMP:20260425T121250
CREATED:20251114T112050Z
LAST-MODIFIED:20251114T112050Z
UID:10562-1763647200-1763652600@innovatecambridge.com
SUMMARY:Private Meeting
DESCRIPTION:Kindly note the boardroom will be unavailable for member use from 2pm – 3.30pm.
URL:https://innovatecambridge.com/calendar-event/private-meeting-37/
LOCATION:Boardroom\, The Glasshouse\, Innovate Cambridge\, Botanic House\, 1st floor\, Cambridge\, CB21PH\, United Kingdom
CATEGORIES:Closed Meeting
ATTACH;FMTTYPE=image/png:https://innovatecambridge.com/wp-content/uploads/2025/09/7-1.png
END:VEVENT
BEGIN:VEVENT
DTSTART;TZID=Europe/London:20251120T140000
DTEND;TZID=Europe/London:20251120T160000
DTSTAMP:20260425T121250
CREATED:20250826T055536Z
LAST-MODIFIED:20251114T111850Z
UID:10156-1763647200-1763654400@innovatecambridge.com
SUMMARY:Private Meeting
DESCRIPTION:Kindly note due to some private meetings taking place there will be limited seating in the open plan from 2pm – 4pm.
URL:https://innovatecambridge.com/calendar-event/founders-growth-community-networking-2/
LOCATION:Open Space\, The Glasshouse\, Innovate Cambridge\, Botanic House\, 1st floor\, Cambridge\, CB21PH\, United Kingdom
CATEGORIES:Closed Meeting
ATTACH;FMTTYPE=image/png:https://innovatecambridge.com/wp-content/uploads/2025/09/7-1.png
END:VEVENT
BEGIN:VEVENT
DTSTART;TZID=Europe/London:20251121T083000
DTEND;TZID=Europe/London:20251121T133000
DTSTAMP:20260425T121250
CREATED:20250826T055645Z
LAST-MODIFIED:20251112T124930Z
UID:10157-1763713800-1763731800@innovatecambridge.com
SUMMARY:Private Meeting
DESCRIPTION:Kindly note that due to this meeting taking place in the boardroom\, it will be unavailable for member use from 8:30am – 1:30pm.
URL:https://innovatecambridge.com/calendar-event/private-meeting-17/
LOCATION:Boardroom\, The Glasshouse\, Innovate Cambridge\, Botanic House\, 1st floor\, Cambridge\, CB21PH\, United Kingdom
CATEGORIES:Closed Meeting
ATTACH;FMTTYPE=image/png:https://innovatecambridge.com/wp-content/uploads/2025/09/7.png
END:VEVENT
BEGIN:VEVENT
DTSTART;TZID=Europe/London:20251121T150000
DTEND;TZID=Europe/London:20251121T170000
DTSTAMP:20260425T121250
CREATED:20251119T123747Z
LAST-MODIFIED:20251119T125221Z
UID:10595-1763737200-1763744400@innovatecambridge.com
SUMMARY:Private Meeting
DESCRIPTION:Kindly note that due to this meeting taking place in the boardroom\, it will be unavailable for member use from 3pm – 5pm.
URL:https://innovatecambridge.com/calendar-event/private-meeting-44/
LOCATION:Boardroom\, The Glasshouse\, Innovate Cambridge\, Botanic House\, 1st floor\, Cambridge\, CB21PH\, United Kingdom
CATEGORIES:Closed Meeting
ATTACH;FMTTYPE=image/png:https://innovatecambridge.com/wp-content/uploads/2025/09/7.png
END:VEVENT
BEGIN:VEVENT
DTSTART;TZID=Europe/London:20251124T120000
DTEND;TZID=Europe/London:20251124T173000
DTSTAMP:20260425T121250
CREATED:20250826T055748Z
LAST-MODIFIED:20251114T112505Z
UID:10158-1763985600-1764005400@innovatecambridge.com
SUMMARY:Private Meeting
DESCRIPTION:Kindly note that due to this meeting taking place in the boardroom\, it will be unavailable for member use from 12pm – 5:30pm.
URL:https://innovatecambridge.com/calendar-event/private-meeting-18/
LOCATION:Boardroom\, The Glasshouse\, Innovate Cambridge\, Botanic House\, 1st floor\, Cambridge\, CB21PH\, United Kingdom
CATEGORIES:Closed Meeting
ATTACH;FMTTYPE=image/png:https://innovatecambridge.com/wp-content/uploads/2025/09/7.png
END:VEVENT
BEGIN:VEVENT
DTSTART;TZID=Europe/London:20251125T090000
DTEND;TZID=Europe/London:20251125T173000
DTSTAMP:20260425T121250
CREATED:20250826T055917Z
LAST-MODIFIED:20251112T125708Z
UID:10159-1764061200-1764091800@innovatecambridge.com
SUMMARY:Private Meeting
DESCRIPTION:Kindly note that due to this meeting taking place in the boardroom\, it will be unavailable for member use from 9am – 5:30pm.
URL:https://innovatecambridge.com/calendar-event/private-meeting-19/
LOCATION:Boardroom\, The Glasshouse\, Innovate Cambridge\, Botanic House\, 1st floor\, Cambridge\, CB21PH\, United Kingdom
CATEGORIES:Closed Meeting
ATTACH;FMTTYPE=image/png:https://innovatecambridge.com/wp-content/uploads/2025/09/7.png
END:VEVENT
BEGIN:VEVENT
DTSTART;TZID=Europe/London:20251125T110000
DTEND;TZID=Europe/London:20251125T173000
DTSTAMP:20260425T121250
CREATED:20251125T094134Z
LAST-MODIFIED:20251125T094134Z
UID:10604-1764068400-1764091800@innovatecambridge.com
SUMMARY:Private Event
DESCRIPTION:Kindly note\, due to this private event there will be limited seating in the open space from 11am – 5:30pm.
URL:https://innovatecambridge.com/calendar-event/private-event-14/
LOCATION:Open Space\, The Glasshouse\, Innovate Cambridge\, Botanic House\, 1st floor\, Cambridge\, CB21PH\, United Kingdom
CATEGORIES:Closed Meeting
ATTACH;FMTTYPE=image/png:https://innovatecambridge.com/wp-content/uploads/2025/09/6.png
END:VEVENT
BEGIN:VEVENT
DTSTART;TZID=Europe/London:20251126T090000
DTEND;TZID=Europe/London:20251126T100000
DTSTAMP:20260425T121250
CREATED:20250826T060005Z
LAST-MODIFIED:20251114T114007Z
UID:10160-1764147600-1764151200@innovatecambridge.com
SUMMARY:Cambridge Neuroworks
DESCRIPTION:Kindly note that due to this meeting taking place in the boardroom\, it will be unavailable for member use from 9am – 10am.
URL:https://innovatecambridge.com/calendar-event/cambridge-neuroworks-12/
LOCATION:Boardroom\, The Glasshouse\, Innovate Cambridge\, Botanic House\, 1st floor\, Cambridge\, CB21PH\, United Kingdom
CATEGORIES:Closed Meeting
ATTACH;FMTTYPE=image/png:https://innovatecambridge.com/wp-content/uploads/2025/09/7.png
END:VEVENT
BEGIN:VEVENT
DTSTART;TZID=Europe/London:20251127T160000
DTEND;TZID=Europe/London:20251127T200000
DTSTAMP:20260425T121250
CREATED:20250826T060228Z
LAST-MODIFIED:20251114T112941Z
UID:10161-1764259200-1764273600@innovatecambridge.com
SUMMARY:From Bench to Breakthrough: The future of Therapeutics
DESCRIPTION:Kindly note that the open space will not be available for use from 4 pm onward.
URL:https://innovatecambridge.com/calendar-event/from-bench-to-breakthrough-the-future-of-therapeutics/
LOCATION:Open Space\, The Glasshouse\, Innovate Cambridge\, Botanic House\, 1st floor\, Cambridge\, CB21PH\, United Kingdom
CATEGORIES:Closed Meeting
ATTACH;FMTTYPE=image/png:https://innovatecambridge.com/wp-content/uploads/2025/09/6.png
END:VEVENT
BEGIN:VEVENT
DTSTART;TZID=Europe/London:20251128T120000
DTEND;TZID=Europe/London:20251128T160000
DTSTAMP:20260425T121250
CREATED:20251112T145243Z
LAST-MODIFIED:20251112T145243Z
UID:10504-1764331200-1764345600@innovatecambridge.com
SUMMARY:Private Event
DESCRIPTION:Kindly note that from 12pm – 4pm there will limited seating in the open space.
URL:https://innovatecambridge.com/calendar-event/private-event-5/
LOCATION:Open Space\, The Glasshouse\, Innovate Cambridge\, Botanic House\, 1st floor\, Cambridge\, CB21PH\, United Kingdom
CATEGORIES:Closed Meeting
ATTACH;FMTTYPE=image/png:https://innovatecambridge.com/wp-content/uploads/2025/09/6.png
END:VEVENT
BEGIN:VEVENT
DTSTART;TZID=Europe/London:20251201T090000
DTEND;TZID=Europe/London:20251201T120000
DTSTAMP:20260425T121250
CREATED:20251112T150443Z
LAST-MODIFIED:20251113T101240Z
UID:10509-1764579600-1764590400@innovatecambridge.com
SUMMARY:Private Event
DESCRIPTION:Kindly note\, due to this event taking place in the open space members will there be encouraged to work in the boardroom from 9am – 12pm.
URL:https://innovatecambridge.com/calendar-event/private-event-6/
LOCATION:Open Space\, The Glasshouse\, Innovate Cambridge\, Botanic House\, 1st floor\, Cambridge\, CB21PH\, United Kingdom
CATEGORIES:Closed Meeting
ATTACH;FMTTYPE=image/png:https://innovatecambridge.com/wp-content/uploads/2025/09/6.png
END:VEVENT
BEGIN:VEVENT
DTSTART;TZID=Europe/London:20251201T130000
DTEND;TZID=Europe/London:20251201T150000
DTSTAMP:20260425T121250
CREATED:20251201T103452Z
LAST-MODIFIED:20251201T103452Z
UID:10609-1764594000-1764601200@innovatecambridge.com
SUMMARY:Cambridge Angels Office Hours
DESCRIPTION:Whilst this event is closed\, please note if you’re interested in attending Cambridge Angels Office Hours you can apply here.  Once you’ve applied\, the team at Cambridge Angels will see if there are any matches with an angel and then try to get you booked in. Find out more about the Cambridge Angels here.
URL:https://innovatecambridge.com/calendar-event/cambridge-angels-office-hours-3/
LOCATION:Open Space\, The Glasshouse\, Innovate Cambridge\, Botanic House\, 1st floor\, Cambridge\, CB21PH\, United Kingdom
CATEGORIES:Closed Meeting
ATTACH;FMTTYPE=image/png:https://innovatecambridge.com/wp-content/uploads/2025/09/7.png
END:VEVENT
BEGIN:VEVENT
DTSTART;TZID=Europe/London:20251203T090000
DTEND;TZID=Europe/London:20251203T100000
DTSTAMP:20260425T121250
CREATED:20251112T150905Z
LAST-MODIFIED:20251112T150929Z
UID:10514-1764752400-1764756000@innovatecambridge.com
SUMMARY:Cambridge Neuroworks
DESCRIPTION:Kindly note that due to this meeting taking place in the boardroom\, it will be unavailable for member use from 9am – 10am.
URL:https://innovatecambridge.com/calendar-event/cambridge-neuroworks-13/
LOCATION:Boardroom\, The Glasshouse\, Innovate Cambridge\, Botanic House\, 1st floor\, Cambridge\, CB21PH\, United Kingdom
CATEGORIES:Closed Meeting
ATTACH;FMTTYPE=image/png:https://innovatecambridge.com/wp-content/uploads/2025/09/7-1.png
END:VEVENT
BEGIN:VEVENT
DTSTART;TZID=Europe/London:20251203T150000
DTEND;TZID=Europe/London:20251203T173000
DTSTAMP:20260425T121250
CREATED:20251112T151108Z
LAST-MODIFIED:20251112T152347Z
UID:10516-1764774000-1764783000@innovatecambridge.com
SUMMARY:Private Meeting
DESCRIPTION:Kindly note that due to this meeting taking place in the boardroom\, it will be unavailable for member use from 3pm – 5:30pm.
URL:https://innovatecambridge.com/calendar-event/private-meeting-31/
LOCATION:Boardroom\, The Glasshouse\, Innovate Cambridge\, Botanic House\, 1st floor\, Cambridge\, CB21PH\, United Kingdom
CATEGORIES:Closed Meeting
ATTACH;FMTTYPE=image/png:https://innovatecambridge.com/wp-content/uploads/2025/09/7.png
END:VEVENT
BEGIN:VEVENT
DTSTART;TZID=Europe/London:20251204T090000
DTEND;TZID=Europe/London:20251204T160000
DTSTAMP:20260425T121250
CREATED:20251112T151518Z
LAST-MODIFIED:20251112T151559Z
UID:10521-1764838800-1764864000@innovatecambridge.com
SUMMARY:Private Meeting
DESCRIPTION:Kindly note that due to this meeting taking place in the boardroom\, it will be unavailable for member use from 9am – 4pm.
URL:https://innovatecambridge.com/calendar-event/private-meeting-32/
LOCATION:Boardroom\, The Glasshouse\, Innovate Cambridge\, Botanic House\, 1st floor\, Cambridge\, CB21PH\, United Kingdom
CATEGORIES:Closed Meeting
ATTACH;FMTTYPE=image/png:https://innovatecambridge.com/wp-content/uploads/2025/09/7-1.png
END:VEVENT
BEGIN:VEVENT
DTSTART;TZID=Europe/London:20251205T140000
DTEND;TZID=Europe/London:20251205T153000
DTSTAMP:20260425T121250
CREATED:20251114T113844Z
LAST-MODIFIED:20251114T113844Z
UID:10570-1764943200-1764948600@innovatecambridge.com
SUMMARY:Private Meeting
DESCRIPTION:Kindly note the boardroom will be unavailable for member use from 2pm – 3:30pm.
URL:https://innovatecambridge.com/calendar-event/private-meeting-39/
LOCATION:Boardroom\, The Glasshouse\, Innovate Cambridge\, Botanic House\, 1st floor\, Cambridge\, CB21PH\, United Kingdom
CATEGORIES:Closed Meeting
ATTACH;FMTTYPE=image/png:https://innovatecambridge.com/wp-content/uploads/2025/09/7-1.png
END:VEVENT
BEGIN:VEVENT
DTSTART;TZID=Europe/London:20251208T130000
DTEND;TZID=Europe/London:20251208T170000
DTSTAMP:20260425T121250
CREATED:20251112T151724Z
LAST-MODIFIED:20251114T114446Z
UID:10523-1765198800-1765213200@innovatecambridge.com
SUMMARY:Private Meeting
DESCRIPTION:Kindly note that due to this meeting taking place in the boardroom\, it will be unavailable for member use from 1pm – 5pm.
URL:https://innovatecambridge.com/calendar-event/10523/
LOCATION:Boardroom\, The Glasshouse\, Innovate Cambridge\, Botanic House\, 1st floor\, Cambridge\, CB21PH\, United Kingdom
CATEGORIES:Closed Meeting
ATTACH;FMTTYPE=image/png:https://innovatecambridge.com/wp-content/uploads/2025/09/7-1.png
END:VEVENT
BEGIN:VEVENT
DTSTART;TZID=Europe/London:20251208T160000
DTEND;TZID=Europe/London:20251208T200000
DTSTAMP:20260425T121250
CREATED:20251112T152216Z
LAST-MODIFIED:20251114T114545Z
UID:10527-1765209600-1765224000@innovatecambridge.com
SUMMARY:Private Event
DESCRIPTION:Kindly note that due to this meeting taking place in the open space\, it will be unavailable for member use from 4pm onwards.
URL:https://innovatecambridge.com/calendar-event/private-event-7/
LOCATION:Open Space\, The Glasshouse\, Innovate Cambridge\, Botanic House\, 1st floor\, Cambridge\, CB21PH\, United Kingdom
CATEGORIES:Closed Meeting
ATTACH;FMTTYPE=image/png:https://innovatecambridge.com/wp-content/uploads/2025/09/6-1.png
END:VEVENT
BEGIN:VEVENT
DTSTART;TZID=Europe/London:20251209T160000
DTEND;TZID=Europe/London:20251209T200000
DTSTAMP:20260425T121250
CREATED:20251112T152451Z
LAST-MODIFIED:20251114T114957Z
UID:10529-1765296000-1765310400@innovatecambridge.com
SUMMARY:IC Christmas Celebration (invite-only).
DESCRIPTION:Kindly note the open plan will be unavailable for member use from 4pm onwards.
URL:https://innovatecambridge.com/calendar-event/private-event-8/
LOCATION:Open Space\, The Glasshouse\, Innovate Cambridge\, Botanic House\, 1st floor\, Cambridge\, CB21PH\, United Kingdom
CATEGORIES:Closed Meeting
ATTACH;FMTTYPE=image/png:https://innovatecambridge.com/wp-content/uploads/2025/09/6-1.png
END:VEVENT
BEGIN:VEVENT
DTSTART;TZID=Europe/London:20251210T090000
DTEND;TZID=Europe/London:20251210T100000
DTSTAMP:20260425T121250
CREATED:20251112T152620Z
LAST-MODIFIED:20251114T115124Z
UID:10531-1765357200-1765360800@innovatecambridge.com
SUMMARY:Cambridge Neuroworks
DESCRIPTION:Kindly note that due to this meeting taking place in the boardroom\, it will be unavailable for member use from 9am – 10am.
URL:https://innovatecambridge.com/calendar-event/cambridge-neuroworks-14/
LOCATION:Boardroom\, The Glasshouse\, Innovate Cambridge\, Botanic House\, 1st floor\, Cambridge\, CB21PH\, United Kingdom
CATEGORIES:Closed Meeting
ATTACH;FMTTYPE=image/png:https://innovatecambridge.com/wp-content/uploads/2025/09/7-1.png
END:VEVENT
BEGIN:VEVENT
DTSTART;TZID=Europe/London:20251210T113000
DTEND;TZID=Europe/London:20251210T150000
DTSTAMP:20260425T121250
CREATED:20251124T110941Z
LAST-MODIFIED:20251126T122122Z
UID:10602-1765366200-1765378800@innovatecambridge.com
SUMMARY:Private Meeting
DESCRIPTION:Kindly note the boardroom will be unavailable for member use from 11:30am – 3pm.
URL:https://innovatecambridge.com/calendar-event/private-meeting-45/
LOCATION:Boardroom\, The Glasshouse\, Innovate Cambridge\, Botanic House\, 1st floor\, Cambridge\, CB21PH\, United Kingdom
CATEGORIES:Closed Meeting
ATTACH;FMTTYPE=image/png:https://innovatecambridge.com/wp-content/uploads/2025/09/7.png
END:VEVENT
BEGIN:VEVENT
DTSTART;TZID=Europe/London:20251211T120000
DTEND;TZID=Europe/London:20251211T173000
DTSTAMP:20260425T121250
CREATED:20251112T153024Z
LAST-MODIFIED:20251112T153047Z
UID:10533-1765454400-1765474200@innovatecambridge.com
SUMMARY:Private Event
DESCRIPTION:Kindly note that due to this meeting taking place in the open plan\, it will be unavailable for member use from 12pm – 5:30pm.
URL:https://innovatecambridge.com/calendar-event/private-event-9/
LOCATION:Open Space\, The Glasshouse\, Innovate Cambridge\, Botanic House\, 1st floor\, Cambridge\, CB21PH\, United Kingdom
CATEGORIES:Closed Meeting
ATTACH;FMTTYPE=image/png:https://innovatecambridge.com/wp-content/uploads/2025/09/6.png
END:VEVENT
BEGIN:VEVENT
DTSTART;TZID=Europe/London:20251212T093000
DTEND;TZID=Europe/London:20251212T133000
DTSTAMP:20260425T121250
CREATED:20251112T153203Z
LAST-MODIFIED:20251112T153405Z
UID:10536-1765531800-1765546200@innovatecambridge.com
SUMMARY:Private Meeting
DESCRIPTION:Kindly note that due to this meeting taking place in the boardroom\, it will be unavailable for member use from 9:30am – 1:30pm.
URL:https://innovatecambridge.com/calendar-event/private-meeting-33/
LOCATION:Boardroom\, The Glasshouse\, Innovate Cambridge\, Botanic House\, 1st floor\, Cambridge\, CB21PH\, United Kingdom
CATEGORIES:Closed Meeting
ATTACH;FMTTYPE=image/png:https://innovatecambridge.com/wp-content/uploads/2025/09/7-1.png
END:VEVENT
BEGIN:VEVENT
DTSTART;TZID=Europe/London:20251215T113000
DTEND;TZID=Europe/London:20251215T133000
DTSTAMP:20260425T121250
CREATED:20251120T100741Z
LAST-MODIFIED:20251212T163836Z
UID:10599-1765798200-1765805400@innovatecambridge.com
SUMMARY:Private Meeting
DESCRIPTION:Kindly note that due to this meeting taking place in the boardroom\, it will be unavailable for member use from 11:30pm – 1:30pm.
URL:https://innovatecambridge.com/calendar-event/private-event-13/
LOCATION:Boardroom\, The Glasshouse\, Innovate Cambridge\, Botanic House\, 1st floor\, Cambridge\, CB21PH\, United Kingdom
CATEGORIES:Closed Meeting
ATTACH;FMTTYPE=image/png:https://innovatecambridge.com/wp-content/uploads/2025/09/7.png
END:VEVENT
BEGIN:VEVENT
DTSTART;TZID=Europe/London:20251217T090000
DTEND;TZID=Europe/London:20251217T100000
DTSTAMP:20260425T121250
CREATED:20251113T102315Z
LAST-MODIFIED:20251114T115304Z
UID:10545-1765962000-1765965600@innovatecambridge.com
SUMMARY:Cambridge Neuroworks
DESCRIPTION:Kindly note\, the boardroom will be unavailable for member use from 9am – 10am.
URL:https://innovatecambridge.com/calendar-event/cambridge-neuroworks-15/
LOCATION:Boardroom\, The Glasshouse\, Innovate Cambridge\, Botanic House\, 1st floor\, Cambridge\, CB21PH\, United Kingdom
CATEGORIES:Closed Meeting
ATTACH;FMTTYPE=image/png:https://innovatecambridge.com/wp-content/uploads/2025/09/7-1.png
END:VEVENT
BEGIN:VEVENT
DTSTART;TZID=Europe/London:20251217T100000
DTEND;TZID=Europe/London:20251217T170000
DTSTAMP:20260425T121250
CREATED:20251113T102436Z
LAST-MODIFIED:20251114T115624Z
UID:10547-1765965600-1765990800@innovatecambridge.com
SUMMARY:Private Meeting
DESCRIPTION:Kindly note the boardroom is unavailable for member use from 10am – 5pm.
URL:https://innovatecambridge.com/calendar-event/private-meeting-35/
LOCATION:Boardroom\, The Glasshouse\, Innovate Cambridge\, Botanic House\, 1st floor\, Cambridge\, CB21PH\, United Kingdom
CATEGORIES:Closed Meeting
ATTACH;FMTTYPE=image/png:https://innovatecambridge.com/wp-content/uploads/2025/09/7-1.png
END:VEVENT
BEGIN:VEVENT
DTSTART;TZID=Europe/London:20260107T083000
DTEND;TZID=Europe/London:20260107T123000
DTSTAMP:20260425T121250
CREATED:20251212T162733Z
LAST-MODIFIED:20251212T162733Z
UID:10616-1767774600-1767789000@innovatecambridge.com
SUMMARY:Private Meeting
DESCRIPTION:Kindly note that due to this meeting taking place in the boardroom\, it will be unavailable for member use from 8:30am – 12:30pm.
URL:https://innovatecambridge.com/calendar-event/private-meeting-46/
LOCATION:Boardroom\, The Glasshouse\, Innovate Cambridge\, Botanic House\, 1st floor\, Cambridge\, CB21PH\, United Kingdom
CATEGORIES:Closed Meeting
ATTACH;FMTTYPE=image/png:https://innovatecambridge.com/wp-content/uploads/2025/09/7-1.png
END:VEVENT
BEGIN:VEVENT
DTSTART;TZID=Europe/London:20260108T100000
DTEND;TZID=Europe/London:20260108T110000
DTSTAMP:20260425T121250
CREATED:20251212T162846Z
LAST-MODIFIED:20251212T162846Z
UID:10619-1767866400-1767870000@innovatecambridge.com
SUMMARY:Private Meeting
DESCRIPTION:Kindly note that due to this meeting taking place in the boardroom\, it will be unavailable for member use from 10am – 11am.
URL:https://innovatecambridge.com/calendar-event/private-meeting-47/
LOCATION:Boardroom\, The Glasshouse\, Innovate Cambridge\, Botanic House\, 1st floor\, Cambridge\, CB21PH\, United Kingdom
CATEGORIES:Closed Meeting
ATTACH;FMTTYPE=image/png:https://innovatecambridge.com/wp-content/uploads/2025/09/7-1.png
END:VEVENT
BEGIN:VEVENT
DTSTART;TZID=Europe/London:20260114T090000
DTEND;TZID=Europe/London:20260114T100000
DTSTAMP:20260425T121250
CREATED:20251212T163421Z
LAST-MODIFIED:20251212T163421Z
UID:10627-1768381200-1768384800@innovatecambridge.com
SUMMARY:Cambridge Neuroworks
DESCRIPTION:Kindly note due to this meeting taking place in the boardroom\, it will be unavailable for member use from 9am-10am.
URL:https://innovatecambridge.com/calendar-event/cambridge-neuroworks-16/
LOCATION:Boardroom\, The Glasshouse\, Innovate Cambridge\, Botanic House\, 1st floor\, Cambridge\, CB21PH\, United Kingdom
CATEGORIES:Closed Meeting
ATTACH;FMTTYPE=image/png:https://innovatecambridge.com/wp-content/uploads/2025/09/7-1.png
END:VEVENT
END:VCALENDAR