BEGIN:VCALENDAR
VERSION:2.0
PRODID:-//Innovate Cambridge - ECPv6.15.11//NONSGML v1.0//EN
CALSCALE:GREGORIAN
METHOD:PUBLISH
X-WR-CALNAME:Innovate Cambridge
X-ORIGINAL-URL:https://innovatecambridge.com
X-WR-CALDESC:Events for Innovate Cambridge
REFRESH-INTERVAL;VALUE=DURATION:PT1H
X-Robots-Tag:noindex
X-PUBLISHED-TTL:PT1H
BEGIN:VTIMEZONE
TZID:Europe/London
BEGIN:DAYLIGHT
TZOFFSETFROM:+0000
TZOFFSETTO:+0100
TZNAME:BST
DTSTART:20250330T010000
END:DAYLIGHT
BEGIN:STANDARD
TZOFFSETFROM:+0100
TZOFFSETTO:+0000
TZNAME:GMT
DTSTART:20251026T010000
END:STANDARD
BEGIN:DAYLIGHT
TZOFFSETFROM:+0000
TZOFFSETTO:+0100
TZNAME:BST
DTSTART:20260329T010000
END:DAYLIGHT
BEGIN:STANDARD
TZOFFSETFROM:+0100
TZOFFSETTO:+0000
TZNAME:GMT
DTSTART:20261025T010000
END:STANDARD
BEGIN:DAYLIGHT
TZOFFSETFROM:+0000
TZOFFSETTO:+0100
TZNAME:BST
DTSTART:20270328T010000
END:DAYLIGHT
BEGIN:STANDARD
TZOFFSETFROM:+0100
TZOFFSETTO:+0000
TZNAME:GMT
DTSTART:20271031T010000
END:STANDARD
END:VTIMEZONE
BEGIN:VEVENT
DTSTART;TZID=Europe/London:20260521T130000
DTEND;TZID=Europe/London:20260521T150000
DTSTAMP:20260424T184859
CREATED:20260421T100741Z
LAST-MODIFIED:20260421T100741Z
UID:11110-1779368400-1779375600@innovatecambridge.com
SUMMARY:Private Meeting
DESCRIPTION:Kindly note due to this meeting taking place in the boardroom\, it will be unavailable for member use from 1pm-3pm.
URL:https://innovatecambridge.com/calendar-event/private-meeting-98/
LOCATION:Boardroom\, The Glasshouse\, Innovate Cambridge\, Botanic House\, 1st floor\, Cambridge\, CB21PH\, United Kingdom
CATEGORIES:Closed Meeting
ATTACH;FMTTYPE=image/png:https://innovatecambridge.com/wp-content/uploads/2025/09/7-1.png
END:VEVENT
BEGIN:VEVENT
DTSTART;TZID=Europe/London:20260526T160000
DTEND;TZID=Europe/London:20260526T170000
DTSTAMP:20260424T184859
CREATED:20260421T161037Z
LAST-MODIFIED:20260421T161037Z
UID:11144-1779811200-1779814800@innovatecambridge.com
SUMMARY:Private Meeting
DESCRIPTION:Kindly note that due to a meeting taking place in the boardroom\, it will not be available for member use from 4pm – 5pm.
URL:https://innovatecambridge.com/calendar-event/private-meeting-99/
LOCATION:Boardroom\, The Glasshouse\, Innovate Cambridge\, Botanic House\, 1st floor\, Cambridge\, CB21PH\, United Kingdom
CATEGORIES:Closed Meeting
ATTACH;FMTTYPE=image/png:https://innovatecambridge.com/wp-content/uploads/2025/09/7-1.png
END:VEVENT
BEGIN:VEVENT
DTSTART;TZID=Europe/London:20260527T090000
DTEND;TZID=Europe/London:20260527T100000
DTSTAMP:20260424T184859
CREATED:20260422T083322Z
LAST-MODIFIED:20260422T083322Z
UID:11150-1779872400-1779876000@innovatecambridge.com
SUMMARY:Cambridge Neuroworks
DESCRIPTION:Kindly note due to this meeting taking place in the boardroom\, it will be unavailable for member use from 9am-10am.
URL:https://innovatecambridge.com/calendar-event/cambridge-neuroworks-34/
LOCATION:Boardroom\, The Glasshouse\, Innovate Cambridge\, Botanic House\, 1st floor\, Cambridge\, CB21PH\, United Kingdom
CATEGORIES:Closed Meeting
ATTACH;FMTTYPE=image/png:https://innovatecambridge.com/wp-content/uploads/2025/09/7-1.png
END:VEVENT
END:VCALENDAR