BEGIN:VCALENDAR
VERSION:2.0
PRODID:-//Innovate Cambridge - ECPv6.15.11//NONSGML v1.0//EN
CALSCALE:GREGORIAN
METHOD:PUBLISH
X-WR-CALNAME:Innovate Cambridge
X-ORIGINAL-URL:https://innovatecambridge.com
X-WR-CALDESC:Events for Innovate Cambridge
REFRESH-INTERVAL;VALUE=DURATION:PT1H
X-Robots-Tag:noindex
X-PUBLISHED-TTL:PT1H
BEGIN:VTIMEZONE
TZID:Europe/London
BEGIN:DAYLIGHT
TZOFFSETFROM:+0000
TZOFFSETTO:+0100
TZNAME:BST
DTSTART:20240331T010000
END:DAYLIGHT
BEGIN:STANDARD
TZOFFSETFROM:+0100
TZOFFSETTO:+0000
TZNAME:GMT
DTSTART:20241027T010000
END:STANDARD
BEGIN:DAYLIGHT
TZOFFSETFROM:+0000
TZOFFSETTO:+0100
TZNAME:BST
DTSTART:20250330T010000
END:DAYLIGHT
BEGIN:STANDARD
TZOFFSETFROM:+0100
TZOFFSETTO:+0000
TZNAME:GMT
DTSTART:20251026T010000
END:STANDARD
BEGIN:DAYLIGHT
TZOFFSETFROM:+0000
TZOFFSETTO:+0100
TZNAME:BST
DTSTART:20260329T010000
END:DAYLIGHT
BEGIN:STANDARD
TZOFFSETFROM:+0100
TZOFFSETTO:+0000
TZNAME:GMT
DTSTART:20261025T010000
END:STANDARD
END:VTIMEZONE
BEGIN:VEVENT
DTSTART;TZID=Europe/London:20250903T100000
DTEND;TZID=Europe/London:20250903T110000
DTSTAMP:20260425T011515
CREATED:20250822T081453Z
LAST-MODIFIED:20250822T081453Z
UID:10116-1756893600-1756897200@innovatecambridge.com
SUMMARY:Cambridge Neuroworks
DESCRIPTION:Kindly note that this is a private meeting. The boardroom will not be available to members from 10.00-11.00.
URL:https://innovatecambridge.com/calendar-event/cambridge-neuroworks/
LOCATION:Boardroom\, The Glasshouse\, Innovate Cambridge\, Botanic House\, 1st floor\, Cambridge\, CB21PH\, United Kingdom
CATEGORIES:Closed Meeting
ATTACH;FMTTYPE=image/png:https://innovatecambridge.com/wp-content/uploads/2025/09/7.png
END:VEVENT
BEGIN:VEVENT
DTSTART;TZID=Europe/London:20250910T100000
DTEND;TZID=Europe/London:20250910T110000
DTSTAMP:20260425T011515
CREATED:20250822T081551Z
LAST-MODIFIED:20250822T081551Z
UID:10117-1757498400-1757502000@innovatecambridge.com
SUMMARY:Cambridge Neuroworks
DESCRIPTION:Kindly note that this is a private meeting. The boardroom will not be available to members from 10.00-11.00.
URL:https://innovatecambridge.com/calendar-event/cambridge-neuroworks-2/
LOCATION:Boardroom\, The Glasshouse\, Innovate Cambridge\, Botanic House\, 1st floor\, Cambridge\, CB21PH\, United Kingdom
CATEGORIES:Closed Meeting
ATTACH;FMTTYPE=image/png:https://innovatecambridge.com/wp-content/uploads/2025/09/7.png
END:VEVENT
BEGIN:VEVENT
DTSTART;TZID=Europe/London:20250915T170000
DTEND;TZID=Europe/London:20250915T200000
DTSTAMP:20260425T011515
CREATED:20250822T054921Z
LAST-MODIFIED:20250822T054921Z
UID:10114-1757955600-1757966400@innovatecambridge.com
SUMMARY:Private Event
DESCRIPTION:Kindly note that this is a private event. The open space will not be available to members from 17.00 onwards. 
URL:https://innovatecambridge.com/calendar-event/private-event/
LOCATION:Open Space\, The Glasshouse\, Innovate Cambridge\, Botanic House\, 1st floor\, Cambridge\, CB21PH\, United Kingdom
CATEGORIES:Closed Meeting,Glasshouse Closed
ATTACH;FMTTYPE=image/png:https://innovatecambridge.com/wp-content/uploads/2025/09/6.png
END:VEVENT
BEGIN:VEVENT
DTSTART;TZID=Europe/London:20250916T090000
DTEND;TZID=Europe/London:20250916T103000
DTSTAMP:20260425T011515
CREATED:20250902T132521Z
LAST-MODIFIED:20250902T132521Z
UID:10169-1758013200-1758018600@innovatecambridge.com
SUMMARY:Private Meeting
DESCRIPTION:Kindly note that members will not be able to use the boardroom from 9am-10.30am.
URL:https://innovatecambridge.com/calendar-event/private-meeting-21/
LOCATION:Boardroom\, The Glasshouse\, Innovate Cambridge\, Botanic House\, 1st floor\, Cambridge\, CB21PH\, United Kingdom
CATEGORIES:Closed Meeting
ATTACH;FMTTYPE=image/png:https://innovatecambridge.com/wp-content/uploads/2025/09/7.png
END:VEVENT
BEGIN:VEVENT
DTSTART;TZID=Europe/London:20250917T100000
DTEND;TZID=Europe/London:20250917T110000
DTSTAMP:20260425T011515
CREATED:20250822T090016Z
LAST-MODIFIED:20250822T090016Z
UID:10120-1758103200-1758106800@innovatecambridge.com
SUMMARY:Cambridge Neuroworks
DESCRIPTION:Kindly note that this is a private meeting. The boardroom will not be available to members from 10.00-11.00.
URL:https://innovatecambridge.com/calendar-event/cambridge-neuroworks-3/
LOCATION:Boardroom\, The Glasshouse\, Innovate Cambridge\, Botanic House\, 1st floor\, Cambridge\, CB21PH\, United Kingdom
CATEGORIES:Closed Meeting
ATTACH;FMTTYPE=image/png:https://innovatecambridge.com/wp-content/uploads/2025/09/7.png
END:VEVENT
BEGIN:VEVENT
DTSTART;TZID=Europe/London:20250918T100000
DTEND;TZID=Europe/London:20250918T120000
DTSTAMP:20260425T011515
CREATED:20250902T092818Z
LAST-MODIFIED:20250902T092818Z
UID:10163-1758189600-1758196800@innovatecambridge.com
SUMMARY:Cambridge Angels Office Hours
DESCRIPTION:Whilst this meeting is closed\, please note if you’re interested in attending Cambridge Angels Office Hours you can apply here.  Once you’ve applied\, the team at Cambridge Angels will see if there are any matches with an angel and then try to get you booked in. Find out more about the Cambridge Angels here .
URL:https://innovatecambridge.com/calendar-event/cambridge-angels-office-hours/
CATEGORIES:Closed Meeting
ATTACH;FMTTYPE=image/png:https://innovatecambridge.com/wp-content/uploads/2025/09/7.png
END:VEVENT
BEGIN:VEVENT
DTSTART;TZID=Europe/London:20250924T100000
DTEND;TZID=Europe/London:20250924T110000
DTSTAMP:20260425T011515
CREATED:20250822T092106Z
LAST-MODIFIED:20250822T092106Z
UID:10126-1758708000-1758711600@innovatecambridge.com
SUMMARY:Cambridge Neuroworks
DESCRIPTION:Kindly note that this is a private meeting. The boardroom will not be available to members from 10.00-11.00.
URL:https://innovatecambridge.com/calendar-event/cambridge-neuroworks-4/
LOCATION:Boardroom\, The Glasshouse\, Innovate Cambridge\, Botanic House\, 1st floor\, Cambridge\, CB21PH\, United Kingdom
CATEGORIES:Closed Meeting
ATTACH;FMTTYPE=image/png:https://innovatecambridge.com/wp-content/uploads/2025/09/7.png
END:VEVENT
END:VCALENDAR