BEGIN:VCALENDAR
VERSION:2.0
PRODID:-//Innovate Cambridge - ECPv6.15.11//NONSGML v1.0//EN
CALSCALE:GREGORIAN
METHOD:PUBLISH
X-WR-CALNAME:Innovate Cambridge
X-ORIGINAL-URL:https://innovatecambridge.com
X-WR-CALDESC:Events for Innovate Cambridge
REFRESH-INTERVAL;VALUE=DURATION:PT1H
X-Robots-Tag:noindex
X-PUBLISHED-TTL:PT1H
BEGIN:VTIMEZONE
TZID:Europe/London
BEGIN:DAYLIGHT
TZOFFSETFROM:+0000
TZOFFSETTO:+0100
TZNAME:BST
DTSTART:20250330T010000
END:DAYLIGHT
BEGIN:STANDARD
TZOFFSETFROM:+0100
TZOFFSETTO:+0000
TZNAME:GMT
DTSTART:20251026T010000
END:STANDARD
BEGIN:DAYLIGHT
TZOFFSETFROM:+0000
TZOFFSETTO:+0100
TZNAME:BST
DTSTART:20260329T010000
END:DAYLIGHT
BEGIN:STANDARD
TZOFFSETFROM:+0100
TZOFFSETTO:+0000
TZNAME:GMT
DTSTART:20261025T010000
END:STANDARD
BEGIN:DAYLIGHT
TZOFFSETFROM:+0000
TZOFFSETTO:+0100
TZNAME:BST
DTSTART:20270328T010000
END:DAYLIGHT
BEGIN:STANDARD
TZOFFSETFROM:+0100
TZOFFSETTO:+0000
TZNAME:GMT
DTSTART:20271031T010000
END:STANDARD
END:VTIMEZONE
BEGIN:VEVENT
DTSTART;TZID=Europe/London:20260317T163000
DTEND;TZID=Europe/London:20260317T193000
DTSTAMP:20260425T144711
CREATED:20260223T141050Z
LAST-MODIFIED:20260223T141050Z
UID:10848-1773765000-1773775800@innovatecambridge.com
SUMMARY:Private Event
DESCRIPTION:Kindly note due to this event taking place in the open space\, there will be limited availability in the open space from 4.30pm onwards.
URL:https://innovatecambridge.com/calendar-event/private-event-23/
LOCATION:Open Space\, The Glasshouse\, Innovate Cambridge\, Botanic House\, 1st floor\, Cambridge\, CB21PH\, United Kingdom
CATEGORIES:Closed Event
ATTACH;FMTTYPE=image/png:https://innovatecambridge.com/wp-content/uploads/2025/09/6.png
END:VEVENT
BEGIN:VEVENT
DTSTART;TZID=Europe/London:20260324T130000
DTEND;TZID=Europe/London:20260324T163000
DTSTAMP:20260425T144711
CREATED:20260223T145744Z
LAST-MODIFIED:20260223T145744Z
UID:10864-1774357200-1774369800@innovatecambridge.com
SUMMARY:Private Event
DESCRIPTION:Kindly note that due to an event taking place in the open space\, there will be limited capacity for members from 1pm – 4:30pm.
URL:https://innovatecambridge.com/calendar-event/private-event-24/
LOCATION:Open Space\, The Glasshouse\, Innovate Cambridge\, Botanic House\, 1st floor\, Cambridge\, CB21PH\, United Kingdom
CATEGORIES:Closed Event
ATTACH;FMTTYPE=image/png:https://innovatecambridge.com/wp-content/uploads/2025/09/6-1.png
END:VEVENT
BEGIN:VEVENT
DTSTART;TZID=Europe/London:20260331T170000
DTEND;TZID=Europe/London:20260331T190000
DTSTAMP:20260425T144711
CREATED:20260223T161155Z
LAST-MODIFIED:20260223T161155Z
UID:10886-1774976400-1774983600@innovatecambridge.com
SUMMARY:Private Event
DESCRIPTION:Kindly note that due to an event taking place in the open space\, there will be limited capacity for members from 5pm – 7pm.
URL:https://innovatecambridge.com/calendar-event/private-event-25/
LOCATION:Open Space\, The Glasshouse\, Innovate Cambridge\, Botanic House\, 1st floor\, Cambridge\, CB21PH\, United Kingdom
CATEGORIES:Closed Event
ATTACH;FMTTYPE=image/png:https://innovatecambridge.com/wp-content/uploads/2025/09/6-1.png
END:VEVENT
BEGIN:VEVENT
DTSTART;TZID=Europe/London:20260416T163000
DTEND;TZID=Europe/London:20260416T200000
DTSTAMP:20260425T144711
CREATED:20260311T112924Z
LAST-MODIFIED:20260415T142429Z
UID:10926-1776357000-1776369600@innovatecambridge.com
SUMMARY:Private Event
DESCRIPTION:Kindly note due to this meeting taking place in the open plan\, it will be unavailable for member use from 4.30pm – 8pm.
URL:https://innovatecambridge.com/calendar-event/private-event-27/
LOCATION:Open Space\, The Glasshouse\, Innovate Cambridge\, Botanic House\, 1st floor\, Cambridge\, CB21PH\, United Kingdom
CATEGORIES:Closed Event
ATTACH;FMTTYPE=image/png:https://innovatecambridge.com/wp-content/uploads/2025/09/6-1.png
END:VEVENT
BEGIN:VEVENT
DTSTART;TZID=Europe/London:20260420T160000
DTEND;TZID=Europe/London:20260420T200000
DTSTAMP:20260425T144711
CREATED:20260311T113548Z
LAST-MODIFIED:20260311T113556Z
UID:10933-1776700800-1776715200@innovatecambridge.com
SUMMARY:Private Event
DESCRIPTION:Kindly note due to this event taking place in the open space\, it will be unavailable for member use from 4pm-8pm. Members will be encouraged to work in the boardroom from 4pm – 5:30pm.
URL:https://innovatecambridge.com/calendar-event/private-event-28/
LOCATION:Open Space\, The Glasshouse\, Innovate Cambridge\, Botanic House\, 1st floor\, Cambridge\, CB21PH\, United Kingdom
CATEGORIES:Closed Event
ATTACH;FMTTYPE=image/png:https://innovatecambridge.com/wp-content/uploads/2025/09/6-1.png
END:VEVENT
BEGIN:VEVENT
DTSTART;TZID=Europe/London:20260421T130000
DTEND;TZID=Europe/London:20260421T180000
DTSTAMP:20260425T144711
CREATED:20260311T113834Z
LAST-MODIFIED:20260311T113834Z
UID:10935-1776776400-1776794400@innovatecambridge.com
SUMMARY:Private Event
DESCRIPTION:Kindly note due to this event taking place in the open space\, it will be unavailable for member use from 1pm – 6pm. Members are encouraged to use the boardroom from 1pm – 5:30pm.
URL:https://innovatecambridge.com/calendar-event/private-event-29/
LOCATION:Open Space\, The Glasshouse\, Innovate Cambridge\, Botanic House\, 1st floor\, Cambridge\, CB21PH\, United Kingdom
CATEGORIES:Closed Event
ATTACH;FMTTYPE=image/png:https://innovatecambridge.com/wp-content/uploads/2025/09/6-1.png
END:VEVENT
BEGIN:VEVENT
DTSTART;TZID=Europe/London:20260424T110000
DTEND;TZID=Europe/London:20260424T143000
DTSTAMP:20260425T144711
CREATED:20260331T102523Z
LAST-MODIFIED:20260420T094925Z
UID:11011-1777028400-1777041000@innovatecambridge.com
SUMMARY:Private Event
DESCRIPTION:Kindly note that due to an event taking place in the open space\, members will be encouraged to work in the boardroom from 11am – 2.30pm.
URL:https://innovatecambridge.com/calendar-event/private-event-32/
LOCATION:Open Space\, The Glasshouse\, Innovate Cambridge\, Botanic House\, 1st floor\, Cambridge\, CB21PH\, United Kingdom
CATEGORIES:Closed Event
ATTACH;FMTTYPE=image/png:https://innovatecambridge.com/wp-content/uploads/2025/09/6-1.png
END:VEVENT
BEGIN:VEVENT
DTSTART;TZID=Europe/London:20260428T130000
DTEND;TZID=Europe/London:20260428T150000
DTSTAMP:20260425T144711
CREATED:20260331T102752Z
LAST-MODIFIED:20260331T102752Z
UID:11013-1777381200-1777388400@innovatecambridge.com
SUMMARY:Private Event
DESCRIPTION:Kindly note that due to an event taking place in the open space\, members will be encouraged to work in the boardroom from 1pm – 3pm.
URL:https://innovatecambridge.com/calendar-event/private-event-33/
LOCATION:Open Space\, The Glasshouse\, Innovate Cambridge\, Botanic House\, 1st floor\, Cambridge\, CB21PH\, United Kingdom
CATEGORIES:Closed Event
ATTACH;FMTTYPE=image/png:https://innovatecambridge.com/wp-content/uploads/2025/09/6-1.png
END:VEVENT
BEGIN:VEVENT
DTSTART;TZID=Europe/London:20260428T170000
DTEND;TZID=Europe/London:20260428T190000
DTSTAMP:20260425T144711
CREATED:20260311T121256Z
LAST-MODIFIED:20260311T121256Z
UID:10944-1777395600-1777402800@innovatecambridge.com
SUMMARY:Private Event
DESCRIPTION:Kindly note that due to an event taking place in the open space\, there will be limited capacity for members from 5pm – 7pm.
URL:https://innovatecambridge.com/calendar-event/private-event-30/
LOCATION:Open Space\, The Glasshouse\, Innovate Cambridge\, Botanic House\, 1st floor\, Cambridge\, CB21PH\, United Kingdom
CATEGORIES:Closed Event
ATTACH;FMTTYPE=image/png:https://innovatecambridge.com/wp-content/uploads/2025/09/6-1.png
END:VEVENT
BEGIN:VEVENT
DTSTART;TZID=Europe/London:20260429T160000
DTEND;TZID=Europe/London:20260429T190000
DTSTAMP:20260425T144711
CREATED:20260311T124038Z
LAST-MODIFIED:20260311T124038Z
UID:10948-1777478400-1777489200@innovatecambridge.com
SUMMARY:Private Event
DESCRIPTION:Kindly note due to this event taking place in the open space\, there will be limited availability in the open space from 4pm onwards.
URL:https://innovatecambridge.com/calendar-event/private-event-31/
LOCATION:Open Space\, The Glasshouse\, Innovate Cambridge\, Botanic House\, 1st floor\, Cambridge\, CB21PH\, United Kingdom
CATEGORIES:Closed Event
ATTACH;FMTTYPE=image/png:https://innovatecambridge.com/wp-content/uploads/2025/09/6-1.png
END:VEVENT
BEGIN:VEVENT
DTSTART;TZID=Europe/London:20260501T090000
DTEND;TZID=Europe/London:20260501T160000
DTSTAMP:20260425T144711
CREATED:20260415T142550Z
LAST-MODIFIED:20260415T142550Z
UID:11051-1777626000-1777651200@innovatecambridge.com
SUMMARY:Private Event
DESCRIPTION:Kindly note due to this event taking place in the open plan\, it will be unavailable for member use from 9am – 4pm. Members are encouraged to work in the boardroom during this time.
URL:https://innovatecambridge.com/calendar-event/private-event-34/
LOCATION:Open Space\, The Glasshouse\, Innovate Cambridge\, Botanic House\, 1st floor\, Cambridge\, CB21PH\, United Kingdom
CATEGORIES:Closed Event
ATTACH;FMTTYPE=image/png:https://innovatecambridge.com/wp-content/uploads/2025/09/6-1.png
END:VEVENT
BEGIN:VEVENT
DTSTART;TZID=Europe/London:20260513T090000
DTEND;TZID=Europe/London:20260513T150000
DTSTAMP:20260425T144711
CREATED:20260420T171246Z
LAST-MODIFIED:20260420T171859Z
UID:11079-1778662800-1778684400@innovatecambridge.com
SUMMARY:Private Event
DESCRIPTION:Kindly note due to this event taking place in the open space\, it will be unavailable for member use from 9am-3pm. Members will be encouraged to work in the boardroom from 9am-3pm.
URL:https://innovatecambridge.com/calendar-event/private-event-35/
LOCATION:Open Space\, The Glasshouse\, Innovate Cambridge\, Botanic House\, 1st floor\, Cambridge\, CB21PH\, United Kingdom
CATEGORIES:Closed Event
ATTACH;FMTTYPE=image/png:https://innovatecambridge.com/wp-content/uploads/2025/09/6.png
END:VEVENT
BEGIN:VEVENT
DTSTART;TZID=Europe/London:20260513T160000
DTEND;TZID=Europe/London:20260513T180000
DTSTAMP:20260425T144711
CREATED:20260420T171827Z
LAST-MODIFIED:20260420T171827Z
UID:11081-1778688000-1778695200@innovatecambridge.com
SUMMARY:Private Meeting
DESCRIPTION:Kindly note due to this meeting taking place in the boardroom\, it will be unavailable for member use from 4pm-6pm.
URL:https://innovatecambridge.com/calendar-event/private-meeting-91/
LOCATION:Boardroom\, The Glasshouse\, Innovate Cambridge\, Botanic House\, 1st floor\, Cambridge\, CB21PH\, United Kingdom
CATEGORIES:Closed Event
ATTACH;FMTTYPE=image/png:https://innovatecambridge.com/wp-content/uploads/2025/09/7-1.png
END:VEVENT
BEGIN:VEVENT
DTSTART;TZID=Europe/London:20260514T160000
DTEND;TZID=Europe/London:20260514T200000
DTSTAMP:20260425T144711
CREATED:20260420T172727Z
LAST-MODIFIED:20260420T172727Z
UID:11087-1778774400-1778788800@innovatecambridge.com
SUMMARY:Private Event
DESCRIPTION:Kindly note that due to an event taking place in the open space and a meeting taking place in the boardroom there will be limited availability in The Glasshouse from 4pm onwards.
URL:https://innovatecambridge.com/calendar-event/private-event-36/
LOCATION:Open Space\, The Glasshouse\, Innovate Cambridge\, Botanic House\, 1st floor\, Cambridge\, CB21PH\, United Kingdom
CATEGORIES:Closed Event
ATTACH;FMTTYPE=image/png:https://innovatecambridge.com/wp-content/uploads/2025/09/6-1.png
END:VEVENT
BEGIN:VEVENT
DTSTART;TZID=Europe/London:20260515T120000
DTEND;TZID=Europe/London:20260515T160000
DTSTAMP:20260425T144711
CREATED:20260420T173158Z
LAST-MODIFIED:20260421T093401Z
UID:11091-1778846400-1778860800@innovatecambridge.com
SUMMARY:Private Event
DESCRIPTION:Kindly note that due to an event taking place in the open space\, members will be encouraged to work in the boardroom from 12pm – 4pm.
URL:https://innovatecambridge.com/calendar-event/private-event-37/
LOCATION:Open Space\, The Glasshouse\, Innovate Cambridge\, Botanic House\, 1st floor\, Cambridge\, CB21PH\, United Kingdom
CATEGORIES:Closed Event
ATTACH;FMTTYPE=image/png:https://innovatecambridge.com/wp-content/uploads/2025/09/6-1.png
END:VEVENT
BEGIN:VEVENT
DTSTART;TZID=Europe/London:20260519T160000
DTEND;TZID=Europe/London:20260519T190000
DTSTAMP:20260425T144711
CREATED:20260421T094530Z
LAST-MODIFIED:20260421T100412Z
UID:11095-1779206400-1779217200@innovatecambridge.com
SUMMARY:Milner Seeding Fellows
DESCRIPTION:Kindly note that due to an event taking place in the open space\, members will be encouraged to work in the boardroom from 4pm – 5.30pm.
URL:https://innovatecambridge.com/calendar-event/milner-seeding-fellows/
LOCATION:Open Space\, The Glasshouse\, Innovate Cambridge\, Botanic House\, 1st floor\, Cambridge\, CB21PH\, United Kingdom
CATEGORIES:Closed Event
ATTACH;FMTTYPE=image/png:https://innovatecambridge.com/wp-content/uploads/2025/09/6-1.png
END:VEVENT
BEGIN:VEVENT
DTSTART;TZID=Europe/London:20260520T160000
DTEND;TZID=Europe/London:20260520T200000
DTSTAMP:20260425T144711
CREATED:20260421T100000Z
LAST-MODIFIED:20260421T100000Z
UID:11108-1779292800-1779307200@innovatecambridge.com
SUMMARY:Private Event
DESCRIPTION:Kindly note due to this event taking place in the open space\, it will be unavailable for member use from 4pm – 8pm. Members are encouraged to use the boardroom from 4pm – 5:30pm.
URL:https://innovatecambridge.com/calendar-event/private-event-38/
LOCATION:Open Space\, The Glasshouse\, Innovate Cambridge\, Botanic House\, 1st floor\, Cambridge\, CB21PH\, United Kingdom
CATEGORIES:Closed Event
ATTACH;FMTTYPE=image/png:https://innovatecambridge.com/wp-content/uploads/2025/09/6-1.png
END:VEVENT
BEGIN:VEVENT
DTSTART;TZID=Europe/London:20260522T140000
DTEND;TZID=Europe/London:20260522T173000
DTSTAMP:20260425T144711
CREATED:20260421T160047Z
LAST-MODIFIED:20260421T160047Z
UID:11114-1779458400-1779471000@innovatecambridge.com
SUMMARY:Cambridge Neuroworks Unconference
DESCRIPTION:Kindly note that due to an event taking place in the open space\, members will be encouraged to work in the boardroom from 2pm – 5:30pm.
URL:https://innovatecambridge.com/calendar-event/cambridge-neuroworks-unconference/
LOCATION:Open Space\, The Glasshouse\, Innovate Cambridge\, Botanic House\, 1st floor\, Cambridge\, CB21PH\, United Kingdom
CATEGORIES:Closed Event
ATTACH;FMTTYPE=image/png:https://innovatecambridge.com/wp-content/uploads/2025/09/6-1.png
END:VEVENT
END:VCALENDAR