BEGIN:VCALENDAR
VERSION:2.0
PRODID:-//Innovate Cambridge - ECPv6.15.11//NONSGML v1.0//EN
CALSCALE:GREGORIAN
METHOD:PUBLISH
X-WR-CALNAME:Innovate Cambridge
X-ORIGINAL-URL:https://innovatecambridge.com
X-WR-CALDESC:Events for Innovate Cambridge
REFRESH-INTERVAL;VALUE=DURATION:PT1H
X-Robots-Tag:noindex
X-PUBLISHED-TTL:PT1H
BEGIN:VTIMEZONE
TZID:Europe/London
BEGIN:DAYLIGHT
TZOFFSETFROM:+0000
TZOFFSETTO:+0100
TZNAME:BST
DTSTART:20250330T010000
END:DAYLIGHT
BEGIN:STANDARD
TZOFFSETFROM:+0100
TZOFFSETTO:+0000
TZNAME:GMT
DTSTART:20251026T010000
END:STANDARD
BEGIN:DAYLIGHT
TZOFFSETFROM:+0000
TZOFFSETTO:+0100
TZNAME:BST
DTSTART:20260329T010000
END:DAYLIGHT
BEGIN:STANDARD
TZOFFSETFROM:+0100
TZOFFSETTO:+0000
TZNAME:GMT
DTSTART:20261025T010000
END:STANDARD
BEGIN:DAYLIGHT
TZOFFSETFROM:+0000
TZOFFSETTO:+0100
TZNAME:BST
DTSTART:20270328T010000
END:DAYLIGHT
BEGIN:STANDARD
TZOFFSETFROM:+0100
TZOFFSETTO:+0000
TZNAME:GMT
DTSTART:20271031T010000
END:STANDARD
END:VTIMEZONE
BEGIN:VEVENT
DTSTART;TZID=Europe/London:20260304T113000
DTEND;TZID=Europe/London:20260304T153000
DTSTAMP:20260424T204125
CREATED:20260126T152245Z
LAST-MODIFIED:20260126T152413Z
UID:10763-1772623800-1772638200@innovatecambridge.com
SUMMARY:Private Event
DESCRIPTION:Kindly note\, due to this event taking place in the open space\, it will not be available from 11:30am-3:30pm. Members will be encouraged to work in the boardroom during this time.
URL:https://innovatecambridge.com/calendar-event/private-event-20/
LOCATION:Open Space\, The Glasshouse\, Innovate Cambridge\, Botanic House\, 1st floor\, Cambridge\, CB21PH\, United Kingdom
CATEGORIES:Closed Event
ATTACH;FMTTYPE=image/png:https://innovatecambridge.com/wp-content/uploads/2025/09/6-1.png
END:VEVENT
BEGIN:VEVENT
DTSTART;TZID=Europe/London:20260305T120000
DTEND;TZID=Europe/London:20260305T193000
DTSTAMP:20260424T204125
CREATED:20260210T110543Z
LAST-MODIFIED:20260223T133157Z
UID:10789-1772712000-1772739000@innovatecambridge.com
SUMMARY:#21toWatch Top21.2026 Announcement
DESCRIPTION:Kindly note that there will be limited availability in The Glasshouse due to preparations for this private event from 12pm onwards.
URL:https://innovatecambridge.com/calendar-event/21towatch-top21-2026-announcement/
LOCATION:Open Space\, The Glasshouse\, Innovate Cambridge\, Botanic House\, 1st floor\, Cambridge\, CB21PH\, United Kingdom
CATEGORIES:Closed Event
ATTACH;FMTTYPE=image/png:https://innovatecambridge.com/wp-content/uploads/2025/09/6.png
END:VEVENT
BEGIN:VEVENT
DTSTART;TZID=Europe/London:20260310T130000
DTEND;TZID=Europe/London:20260310T150000
DTSTAMP:20260424T204125
CREATED:20260210T110844Z
LAST-MODIFIED:20260223T134740Z
UID:10792-1773147600-1773154800@innovatecambridge.com
SUMMARY:Private Event
DESCRIPTION:Kindly note\, due to this event taking place in the open space\, it will not be available from 1pm-3pm. Due to there being a meeting in the boardroom\, the Glasshouse will have very limited capacity for members from 1pm – 3pm.
URL:https://innovatecambridge.com/calendar-event/private-event-21/
LOCATION:Open Space\, The Glasshouse\, Innovate Cambridge\, Botanic House\, 1st floor\, Cambridge\, CB21PH\, United Kingdom
CATEGORIES:Closed Event
ATTACH;FMTTYPE=image/png:https://innovatecambridge.com/wp-content/uploads/2025/09/6-1.png
END:VEVENT
BEGIN:VEVENT
DTSTART;TZID=Europe/London:20260311T090000
DTEND;TZID=Europe/London:20260311T170000
DTSTAMP:20260424T204125
CREATED:20260210T111833Z
LAST-MODIFIED:20260210T111833Z
UID:10796-1773219600-1773248400@innovatecambridge.com
SUMMARY:Milner Away Day
DESCRIPTION:Kindly note\, due to this event taking place in the open space\, it will not be available from 9am-5pm. Members will be encouraged to work in the boardroom during this time.
URL:https://innovatecambridge.com/calendar-event/milner-away-day/
LOCATION:Open Space\, The Glasshouse\, Innovate Cambridge\, Botanic House\, 1st floor\, Cambridge\, CB21PH\, United Kingdom
CATEGORIES:Closed Event
ATTACH;FMTTYPE=image/png:https://innovatecambridge.com/wp-content/uploads/2025/09/6.png
END:VEVENT
BEGIN:VEVENT
DTSTART;TZID=Europe/London:20260317T163000
DTEND;TZID=Europe/London:20260317T193000
DTSTAMP:20260424T204125
CREATED:20260223T141050Z
LAST-MODIFIED:20260223T141050Z
UID:10848-1773765000-1773775800@innovatecambridge.com
SUMMARY:Private Event
DESCRIPTION:Kindly note due to this event taking place in the open space\, there will be limited availability in the open space from 4.30pm onwards.
URL:https://innovatecambridge.com/calendar-event/private-event-23/
LOCATION:Open Space\, The Glasshouse\, Innovate Cambridge\, Botanic House\, 1st floor\, Cambridge\, CB21PH\, United Kingdom
CATEGORIES:Closed Event
ATTACH;FMTTYPE=image/png:https://innovatecambridge.com/wp-content/uploads/2025/09/6.png
END:VEVENT
BEGIN:VEVENT
DTSTART;TZID=Europe/London:20260324T130000
DTEND;TZID=Europe/London:20260324T163000
DTSTAMP:20260424T204125
CREATED:20260223T145744Z
LAST-MODIFIED:20260223T145744Z
UID:10864-1774357200-1774369800@innovatecambridge.com
SUMMARY:Private Event
DESCRIPTION:Kindly note that due to an event taking place in the open space\, there will be limited capacity for members from 1pm – 4:30pm.
URL:https://innovatecambridge.com/calendar-event/private-event-24/
LOCATION:Open Space\, The Glasshouse\, Innovate Cambridge\, Botanic House\, 1st floor\, Cambridge\, CB21PH\, United Kingdom
CATEGORIES:Closed Event
ATTACH;FMTTYPE=image/png:https://innovatecambridge.com/wp-content/uploads/2025/09/6-1.png
END:VEVENT
BEGIN:VEVENT
DTSTART;TZID=Europe/London:20260331T170000
DTEND;TZID=Europe/London:20260331T190000
DTSTAMP:20260424T204125
CREATED:20260223T161155Z
LAST-MODIFIED:20260223T161155Z
UID:10886-1774976400-1774983600@innovatecambridge.com
SUMMARY:Private Event
DESCRIPTION:Kindly note that due to an event taking place in the open space\, there will be limited capacity for members from 5pm – 7pm.
URL:https://innovatecambridge.com/calendar-event/private-event-25/
LOCATION:Open Space\, The Glasshouse\, Innovate Cambridge\, Botanic House\, 1st floor\, Cambridge\, CB21PH\, United Kingdom
CATEGORIES:Closed Event
ATTACH;FMTTYPE=image/png:https://innovatecambridge.com/wp-content/uploads/2025/09/6-1.png
END:VEVENT
END:VCALENDAR