BEGIN:VCALENDAR
VERSION:2.0
PRODID:-//Innovate Cambridge - ECPv6.15.11//NONSGML v1.0//EN
CALSCALE:GREGORIAN
METHOD:PUBLISH
X-WR-CALNAME:Innovate Cambridge
X-ORIGINAL-URL:https://innovatecambridge.com
X-WR-CALDESC:Events for Innovate Cambridge
REFRESH-INTERVAL;VALUE=DURATION:PT1H
X-Robots-Tag:noindex
X-PUBLISHED-TTL:PT1H
BEGIN:VTIMEZONE
TZID:Europe/London
BEGIN:DAYLIGHT
TZOFFSETFROM:+0000
TZOFFSETTO:+0100
TZNAME:BST
DTSTART:20250330T010000
END:DAYLIGHT
BEGIN:STANDARD
TZOFFSETFROM:+0100
TZOFFSETTO:+0000
TZNAME:GMT
DTSTART:20251026T010000
END:STANDARD
BEGIN:DAYLIGHT
TZOFFSETFROM:+0000
TZOFFSETTO:+0100
TZNAME:BST
DTSTART:20260329T010000
END:DAYLIGHT
BEGIN:STANDARD
TZOFFSETFROM:+0100
TZOFFSETTO:+0000
TZNAME:GMT
DTSTART:20261025T010000
END:STANDARD
BEGIN:DAYLIGHT
TZOFFSETFROM:+0000
TZOFFSETTO:+0100
TZNAME:BST
DTSTART:20270328T010000
END:DAYLIGHT
BEGIN:STANDARD
TZOFFSETFROM:+0100
TZOFFSETTO:+0000
TZNAME:GMT
DTSTART:20271031T010000
END:STANDARD
END:VTIMEZONE
BEGIN:VEVENT
DTSTART;TZID=Europe/London:20260424T110000
DTEND;TZID=Europe/London:20260424T143000
DTSTAMP:20260424T133103
CREATED:20260331T102523Z
LAST-MODIFIED:20260420T094925Z
UID:11011-1777028400-1777041000@innovatecambridge.com
SUMMARY:Private Event
DESCRIPTION:Kindly note that due to an event taking place in the open space\, members will be encouraged to work in the boardroom from 11am – 2.30pm.
URL:https://innovatecambridge.com/calendar-event/private-event-32/
LOCATION:Open Space\, The Glasshouse\, Innovate Cambridge\, Botanic House\, 1st floor\, Cambridge\, CB21PH\, United Kingdom
CATEGORIES:Closed Event
ATTACH;FMTTYPE=image/png:https://innovatecambridge.com/wp-content/uploads/2025/09/6-1.png
END:VEVENT
END:VCALENDAR